BEGIN:VCALENDAR
VERSION:2.0
PRODID:-//Site de la Fédération Réunionnaise du Tourisme - ECPv6.1.1//NONSGML v1.0//EN
CALSCALE:GREGORIAN
METHOD:PUBLISH
X-ORIGINAL-URL:https://frt.re
X-WR-CALDESC:évènements pour Site de la Fédération Réunionnaise du Tourisme
REFRESH-INTERVAL;VALUE=DURATION:PT1H
X-Robots-Tag:noindex
X-PUBLISHED-TTL:PT1H
BEGIN:VTIMEZONE
TZID:Europe/Paris
BEGIN:DAYLIGHT
TZOFFSETFROM:+0100
TZOFFSETTO:+0200
TZNAME:CEST
DTSTART:20230326T010000
END:DAYLIGHT
BEGIN:STANDARD
TZOFFSETFROM:+0200
TZOFFSETTO:+0100
TZNAME:CET
DTSTART:20231029T010000
END:STANDARD
END:VTIMEZONE
BEGIN:VEVENT
DTSTART;VALUE=DATE:20230917
DTEND;VALUE=DATE:20230924
DTSTAMP:20260424T202317
CREATED:20230920T023028Z
LAST-MODIFIED:20230920T023037Z
UID:10001906-1694908800-1695513599@frt.re
SUMMARY:Studio Réunion 2023
DESCRIPTION:🎥Studio Réunion : l’évènement phare de la filière cinéma et audiovisuelle à La Réunion fête ses 10 ans cette année!\nLa FRT\, partenaire historique de l’évènement est heureuse d’accompagner la NEXA et ses partenaires : l’Agence Film Réunion\, L’Association Reyone\, les Cinéastes de La Réunion et le Syndicat du cinéma de la Réunion\, avec le soutien de la Région Réunion et de l’Union Européenne dans cette belle aventure. Il se déroulera du 17 au 23 septembre prochain. \nL’évènement vise à renforcer l’attractivité de La Réunion et à faire connaitre les talents\, compétences et capacités locales de l’ensemble de la filière. L’objectif est de faire tourner sur l’île des long métrages\, séries\, fictions\, documentaires\, film d’animation ; de générer de l’emploi et de l’activité pour l’ensemble des professionnels directement concernés (techniciens\, comédiens\, auteurs …) mais aussi indirectement (restauration\, hébergement\, activités touristiques…).\nStudio Réunion\, c’est un fort levier de développement économique et touristique : 1 € investi dans cette opération en rapporte à terme 3€ pour le territoire ! \n🎉Cette année 14 invités internationaux (8 femmes et 6 hommes venus d’Inde\, Pays-Bas\, Belgique\, France et d’Afrique du Sud ) découvriront la Réunion \nToufik Ayadi : producteur césarisé de longs-métrages\,\nClaire Beffa : productrice de documentaires engagés\,\nNarindelpal Singh Chandok : auteur-réalisateur\,\nMyriam Gharbi De Vasselot : productrice de séries de fiction\,\nFrank Hoeve : producteur hollandais de films d’auteurs\,\nAudrey Kamga : distributrice à l’international\,\nAndré Logie : producteur de longs-métrages\,\nAnnabella Nezri : productrice belge ouverte au soutien de projet originaux\,\nPushkar Ojha : réalisateur indien de film d’actions\,\nCait Pansegrouw :productrice Sud africaine de films et documentaires\,\nMagdalene Reddy : distributrice et spécialiste des fonds de soutien africains\,\nFabien Suarez : scénariste et coproducteur de long-metrages et séries de fiction\,\nIda Techer : réalisatrice réunionnaise de retour sur son île pour peut être y tourner de beaux projets…\nSandrine Frantz : Distributrice de courts-métrages\, documentaires et fictions.\nUne semaine riche en temps forts et des projections à ne pas manquer! \n👉Au programme : \nLa soirée de projection de l’avant-première du film d’animation “SIROCCO ET LE ROYAUME DES COURANTS D’AIR”\nLe mercredi 20 septembre 2023 à 18h30 au Multiplexe Ciné Grand Sud à Saint-Pierre \nLa soirée de projection de l’avant-première du film “SWEET DREAMS”.\nLe jeudi 21 septembre 2023 à 18h30 au Multiplexe Ciné Cambaie à Saint-Paul \nLa matinée de projection de courts-métrages “La course de Phaeton”\, “Tan lontan” & “Ravie”.\nLe vendredi 22 septembre 2023 de 9h à 10h30 au Musée Stella Matutina – Auditorium Pierre Roselli \nPour plus de renseignements\, consulter le site de la NEXA.
URL:https://frt.re/evenement/studio-reunion-2023/
LOCATION:Ile de La Réunion\, Réunion
CATEGORIES:Grd Public et Professionnel du tourisme,Public
ATTACH;FMTTYPE=image/jpeg:https://frt.re/wp-content/uploads/2023/09/Affiche_VF1-1.jpg
ORGANIZER;CN="NEXA":MAILTO:contact@nexa.re
END:VEVENT
BEGIN:VEVENT
DTSTART;TZID=Europe/Paris:20230921T080000
DTEND;TZID=Europe/Paris:20230922T180000
DTSTAMP:20260424T202317
CREATED:20230731T072914Z
LAST-MODIFIED:20230731T072920Z
UID:10001799-1695283200-1695405600@frt.re
SUMMARY:Forum Inspirant des Pros du Tourisme 2023
DESCRIPTION:Après une édition réussie en 2022\, le Club du Tourisme organise pour la seconde édition le Forum Inspirant des Pros du Tourisme. L’évènement a pour ambition de présenter sous un angle novateur un panel des tendances touristiques. Il s’adresse aux prestataires touristiques de La Réunion et il a pour objectif d’enrichir les réflexions\, d’apporter de bonnes pratiques ; en incitant les entreprises\, les porteurs de projets et les startups à s’engager vers ces nouvelles tendances. Les moments phares seront déclinés selon des formats divers et variés tels que des focus\, des tables rondes\, des pitchs\, des conférences dans une ambiance décontractée. \nPrix : 70 euros pour les 2 jours – remise de 20 euros pour les membres du Club \n🎟Le billet inclut : \n👉un accès aux deux journées du Forum des Pros du Tourisme 2023 édition #2; \n👉les accueils café du jeudi 21 et du vendredi 22 septembre; \n👉les déjeuners du jeudi 21 et du vendredi 22 septembre; \n👉la soirée apéritive du jeudi 21 septembre; \n👉une offre préférentielle auprès de nos membres hôteliers pour vous éviter trop de trajet. \nLes inscriptions sont ouvertes. Visitez le site du Club pour prendre votre billet!
URL:https://frt.re/evenement/forum-inspirant-des-pros-du-tourisme-2023-2/
LOCATION:Jardin d’Eden Saint Gilles\, Jardin d'Eden Saint Gilles\, saint-gilles\, 97434\, Réunion
CATEGORIES:Pros
ATTACH;FMTTYPE=image/jpeg:https://frt.re/wp-content/uploads/2023/07/FORUM-2023-Affichages-A4-1-1.jpg
ORGANIZER;CN="Club%20du%20tourisme":MAILTO:contact@clubtourisme.re
GEO:-21.076654667957;55.229380169313
X-APPLE-STRUCTURED-LOCATION;VALUE=URI;X-ADDRESS=Jardin d’Eden Saint Gilles Jardin d'Eden Saint Gilles saint-gilles 97434 Réunion;X-APPLE-RADIUS=500;X-TITLE=Jardin d'Eden Saint Gilles:geo:55.229380169313,-21.076654667957
END:VEVENT
BEGIN:VEVENT
DTSTART;TZID=Europe/Paris:20230921T083000
DTEND;TZID=Europe/Paris:20230921T170000
DTSTAMP:20260424T202317
CREATED:20230914T030215Z
LAST-MODIFIED:20230914T030223Z
UID:10001897-1695285000-1695315600@frt.re
SUMMARY:Journée SBA du Nord
DESCRIPTION:Chefs d’Entreprises\, venez prendre connaissance des Appels d’Offres à venir et vous faire recenser auprès des 7 acheteurs présents : CINOR\, Région\, Ville de Saint-Denis\, Ville de Sainte-Suzanne\, Aéroport Roland Garros\, la SHLMR\, les FAZSOI \nRetrouvez le programme ici https://www.cinor.re/journee-sba-du-nord-edition-2023-programme/
URL:https://frt.re/evenement/journee-sba-du-nord/
LOCATION:NORDEV\, 1 Rue Du Karting\, Sainte-Clotilde\, 97494\, Réunion
CATEGORIES:Pros
ATTACH;FMTTYPE=image/jpeg:https://frt.re/wp-content/uploads/2023/09/375749794_679741820850489_6887070488110510959_n.jpg
ORGANIZER;CN="La%20CINOR":MAILTO:contact@cinor.re
GEO:-20.893199378344;55.499149430689
X-APPLE-STRUCTURED-LOCATION;VALUE=URI;X-ADDRESS=NORDEV 1 Rue Du Karting Sainte-Clotilde 97494 Réunion;X-APPLE-RADIUS=500;X-TITLE=1 Rue Du Karting:geo:55.499149430689,-20.893199378344
END:VEVENT
BEGIN:VEVENT
DTSTART;TZID=Europe/Paris:20230921T093000
DTEND;TZID=Europe/Paris:20230921T113000
DTSTAMP:20260424T202317
CREATED:20230914T040607Z
LAST-MODIFIED:20230914T040621Z
UID:10001899-1695288600-1695295800@frt.re
SUMMARY:ORDIA - Matinée d'information
DESCRIPTION:🚀 Préparez votre avenir avec ORDIA ! 🎓\nQue vous soyez jeune (18-29 ans)\, demandeur d’emploi\, travailleur indépendant\, en situation d’handicap ou bénéficiaire des minimas sociaux.\n📚 Nous proposons des formations en :\n• Logistique\n• Commerce / Vente\n• Gestion / Administration\n• Petite Enfance\n🤝 Et des contrats en alternance avec des entreprises partenaires.\n🗓️ Rejoignez-nous le 21 septembre de 9h30 à 11h30 pour une matinée d’information autour d’un petit-déjeuner offert à l’adresse : 69\, rue Jeanne d’Arc\, 97420 Le Port.\nInscrivez-vous au 0262 55 16 95 avant le 20 septembre (places limitées à 20). Apportez votre CV pour une candidature express. 📝
URL:https://frt.re/evenement/ordia-matinee-dinformation/
LOCATION:ORDIA\, 69\, rue Jeanne d’Arc\, Le Port\, 97420
CATEGORIES:Pros
ATTACH;FMTTYPE=image/jpeg:https://frt.re/wp-content/uploads/2023/09/374646176_742680097869161_6808025252341465761_n-1.jpg
END:VEVENT
BEGIN:VEVENT
DTSTART;TZID=Europe/Paris:20230921T183000
DTEND;TZID=Europe/Paris:20230921T200000
DTSTAMP:20260424T202317
CREATED:20230915T073906Z
LAST-MODIFIED:20230915T073918Z
UID:10001905-1695321000-1695326400@frt.re
SUMMARY:Conférence : La Caverne des Lataniers. Présentation des opérations archéologiques conduites entre 2016 et 2019
DESCRIPTION:CONFERENCE \nEntrée libre et gratuite. \nLa Caverne des Lataniers. Présentation des opérations archéologiques conduites entre 2016 et 2019. \nJeudi 21 septembre 2023 à 18h15 – Salle communale de Manapany-les-Bains \nLa caverne des Lataniers\, au cœur du Parc national de La Réunion\, est située à 2360 mètres d’altitude\, sur le massif du piton de La Fournaise. Halte et gîte\, la caverne l’est sans doute depuis que les hommes fréquentent cette zone\, de l’époque du marronnage au XVIIIe siècle aux premières expéditions au volcan. \nLe potentiel archéologique de la caverne de même que sa vulnérabilité avaient conduit Jean PERRIN\, érudit et médecin\, amoureux du volcan\, et Patrick PEGOUD\, agent patrimonial ONF\, à impulser un projet de recherche\, lequel a pris naissance en 2016. Porté par Virginie MOTTE\, conservatrice régionale de l’archéologie de la Direction des affaires culturelles de La Réunion\, un programme complet d’étude\, de sauvegarde et de valorisation est construit en partenariat avec l’Institut national de recherches archéologiques préventives (INRAP)\, le Parc national de La Réunion (PNR)\, l’Office national des forêts (ONF)\, l’Observatoire volcanologique du piton de La Fournaise (OVPF)\, l’Université de La Réunion\, la Cité du Volcan (CDV) et d’autres partenaires non institutionnels. \nDe nombreuses pierres gravées ont été retrouvées sur le site. Elles portent les noms des premiers explorateurs du volcan qui ont voulu laisser une trace de leur passage. Les gravures sont étudiées par des spécialistes pour retracer l’histoire de la fréquentation de la caverne et des modèles 3D sont réalisés à des fins d’analyse et de conservation numérique. \nLa Mairie de Saint-Joseph et la Société d’Histoire de Saint-Joseph vous invitent à la présentation des résultats des trois opérations archéologiques conduites en 2016\, 2017 et 2019 à la caverne des Lataniers\, résultats qui seront valorisés prochainement à la Cité du Volcan
URL:https://frt.re/evenement/conference-la-caverne-des-lataniers-presentation-des-operations-archeologiques-conduites-entre-2016-et-2019/
LOCATION:Manapany Les Bains\, 97480\, Réunion
CATEGORIES:Public
ATTACH;FMTTYPE=image/jpeg:https://frt.re/wp-content/uploads/2023/09/CONFERENCE-CAV.DES-LATANIERS-1.jpg
ORGANIZER;CN="Soci%C3%A9t%C3%A9%20d%27Histoire%20de%20Saint-Joseph":MAILTO:ste.histoire97480@gmail.com
END:VEVENT
END:VCALENDAR