BEGIN:VCALENDAR
VERSION:2.0
PRODID:-//Site de la Fédération Réunionnaise du Tourisme - ECPv6.1.1//NONSGML v1.0//EN
CALSCALE:GREGORIAN
METHOD:PUBLISH
X-WR-CALNAME:Site de la Fédération Réunionnaise du Tourisme
X-ORIGINAL-URL:https://frt.re
X-WR-CALDESC:évènements pour Site de la Fédération Réunionnaise du Tourisme
REFRESH-INTERVAL;VALUE=DURATION:PT1H
X-Robots-Tag:noindex
X-PUBLISHED-TTL:PT1H
BEGIN:VTIMEZONE
TZID:Europe/Paris
BEGIN:DAYLIGHT
TZOFFSETFROM:+0100
TZOFFSETTO:+0200
TZNAME:CEST
DTSTART:20230326T010000
END:DAYLIGHT
BEGIN:STANDARD
TZOFFSETFROM:+0200
TZOFFSETTO:+0100
TZNAME:CET
DTSTART:20231029T010000
END:STANDARD
END:VTIMEZONE
BEGIN:VEVENT
DTSTART;VALUE=DATE:20230922
DTEND;VALUE=DATE:20231002
DTSTAMP:20260424T214406
CREATED:20230926T021507Z
LAST-MODIFIED:20230926T021515Z
UID:10001926-1695340800-1696204799@frt.re
SUMMARY:LE TEMPS DES FEMMES - 4ème Festival du Film de Femmes
DESCRIPTION:Programme du festival LE TEMPS DES FEMMES – 4ème Festival du Film de Femmes disponible sur : www.festivaldufilmdefemmes.re
URL:https://frt.re/evenement/le-temps-des-femmes-4eme-festival-du-film-de-femmes/
LOCATION:Ile de La Réunion\, Réunion
CATEGORIES:Public
ATTACH;FMTTYPE=image/jpeg:https://frt.re/wp-content/uploads/2023/09/370037417_279816874800272_4570352111612016198_n.jpg
ORGANIZER;CN="Festival%20du%20Film%20de%20Femmes":MAILTO:armanddauphin@gmail.com
END:VEVENT
BEGIN:VEVENT
DTSTART;VALUE=DATE:20230927
DTEND;VALUE=DATE:20231004
DTSTAMP:20260424T214406
CREATED:20230926T035805Z
LAST-MODIFIED:20230926T035814Z
UID:10001929-1695772800-1696377599@frt.re
SUMMARY:Festival Court derrière
DESCRIPTION:Mon bann\,\nLo festival Court derrière i détak baro lo 27 septanm dann shato\nNa alim la lanp pou gard fim d’Afrik\, fim afrodiasporik\, fim nout rasin\, an gaspi. An takon\, an poundiak\, vyin azot ! \nLe programme ici : http://www.courtderriere.re/ \n 
URL:https://frt.re/evenement/festival-court-derriere/
LOCATION:Château Morange\, 2 rue du Château Morange\, Saint-Denis\, 97400\, Réunion
CATEGORIES:Public
ATTACH;FMTTYPE=image/jpeg:https://frt.re/wp-content/uploads/2023/09/374646166_904661524384536_8675758198449944226_n.jpg
ORGANIZER;CN="Festival%20Court%20derri%C3%A8re":MAILTO:courtderrierefestival@gmail.com
END:VEVENT
BEGIN:VEVENT
DTSTART;VALUE=DATE:20230927
DTEND;VALUE=DATE:20231005
DTSTAMP:20260424T214406
CREATED:20230920T045409Z
LAST-MODIFIED:20230920T045543Z
UID:10001912-1695772800-1696463999@frt.re
SUMMARY:Salon Athéna 2023
DESCRIPTION:📚 [Salon Athéna 2023]\n🔥 Athéna i débarque d’abord dans zot quartiers ! 𝗗𝗲́𝗰𝗼𝘂𝘃𝗿𝗲𝘇 𝗻𝗼𝘁𝗿𝗲 𝗽𝗿𝗼𝗴𝗿𝗮𝗺𝗺𝗮𝘁𝗶𝗼𝗻 𝗽𝗼𝘂𝗿 𝟰 𝗷𝗼𝘂𝗿𝘀 𝗶𝗻𝗲́𝗱𝗶𝘁𝘀 𝗮𝘂 𝗰œ𝘂𝗿 𝗱𝗲 𝘃𝗼𝘀 𝗾𝘂𝗮𝗿𝘁𝗶𝗲𝗿𝘀 !\n📅 𝗗𝘂 𝟮𝟳 𝘀𝗲𝗽𝘁𝗲𝗺𝗯𝗿𝗲 𝗮𝘂 𝟰 𝗼𝗰𝘁𝗼𝗯𝗿𝗲\n🍃 Des surprises à chaque coin de rue et des connexions inattendues\n𝙀𝙣 𝙛𝙖𝙢𝙞𝙡𝙡𝙚\, 𝙚𝙣𝙩𝙧𝙚 𝙖𝙢𝙞.𝙚𝙨 𝙤𝙪 𝙨𝙚𝙪𝙡.𝙚\, 𝙣𝙤𝙪𝙨 𝙖𝙩𝙩𝙚𝙣𝙙𝙨 𝙖̀ 𝙯𝙤𝙩 𝙣𝙤𝙢𝙗𝙧𝙚𝙪𝙭 ! 🚀 \nRetrouvez le programme ici : https://www.saintpierre.re/les-grands-evenements/salon-du-livre-athena/les-10-ans-du-salon-du-livre-athena
URL:https://frt.re/evenement/salon-athena-2023/
LOCATION:Saint-Pierre\, Réunion
CATEGORIES:Public
ATTACH;FMTTYPE=image/jpeg:https://frt.re/wp-content/uploads/2023/09/376578342_714595784040869_7123510535425371168_n.jpg
ORGANIZER;CN="M%C3%A9diath%C3%A8que%20Saint-Pierre":MAILTO:pacmedia@saintpierre.re
END:VEVENT
BEGIN:VEVENT
DTSTART;TZID=Europe/Paris:20230927T090000
DTEND;TZID=Europe/Paris:20230927T120000
DTSTAMP:20260424T214406
CREATED:20230906T022625Z
LAST-MODIFIED:20230906T022631Z
UID:10001872-1695805200-1695816000@frt.re
SUMMARY:Ateliers PRO numériques et administratifs Office de Tourisme de l'Ouest
DESCRIPTION:Prestataires touristiques de l’Ouest\, cette information est pour vous !\nVous êtes un pro du tourisme ou un porteur d’un projet touristique dans l’Ouest de l’Ile de La Réunion ?\nParticipez aux ateliers proposés par votre office! \n📆 Pour ces 15 jours à venir Coté numérique :\n08/09 : La relation client – la Newsletter et l’Emailing de 9h à 12h\n13/09 : Création d’un site internet de 9h à 12h\n14/09 : Création d’un site internet – Le référencement de 9h à 12h\n15/09 : Canva de 9h à 12h\n18/09 Facebook de 9h à 12h\n20/09 Instagram de 9h à 12h\n27/09 : Réservation en ligne de 9h à 12h\nInscrivez-vous auprès de Christopher – ant@ouest-lareunion.com \nEt du Côté administratif :\n5/09 : Cotisations\, contributions et charges sociales de 9h à 12h\n12/09 Décoration & Aménagement Intérieur de 9h à 12h\nInscrivez-vous auprès de Patrizio – patrizio@ouest-lareunion.com \nToutes les infos sur l’ensemble de l’accompagnement que nous proposons sont sur l’espace pro – https://lnkd.in/eVU7v2jr
URL:https://frt.re/evenement/ateliers-pro-numeriques-et-administratifs-office-de-tourisme-de-louest/2023-09-27/
CATEGORIES:Pros
ATTACH;FMTTYPE=image/jpeg:https://frt.re/wp-content/uploads/2023/09/office-de-tourisme-de-louest.jpg
ORGANIZER;CN="Office%20de%20Tourisme%20Intercommunal%20de%20l%27Ouest":MAILTO:accueil@ouest-lareunion.com
END:VEVENT
BEGIN:VEVENT
DTSTART;TZID=Europe/Paris:20230927T090000
DTEND;TZID=Europe/Paris:20230927T170000
DTSTAMP:20260424T214406
CREATED:20230925T031351Z
LAST-MODIFIED:20230925T031402Z
UID:10001919-1695805200-1695834000@frt.re
SUMMARY:Visite Domaine de Bellevue
DESCRIPTION:📆 Réservez dès maintenant les dernières places disponibles de septembre à un tarif exceptionnel 📆\nOffrez-vous une visite du Domaine de Bellevue\, le mercredi 27 septembre à 9h !\n✨ Ce que vous réserve la visite :\nUn voyage sensoriel au milieu des plantations de vanille bio.\nLa dégustation de produits locaux issus du Domaine.\nEt bien plus encore !\n❗️ Les places sont limitées\, alors inscrivez-vous dès aujourd’hui pour assurer votre participation ❗️ \nhttps://forms.gle/uB6nLEm4BMD8i2AR6
URL:https://frt.re/evenement/visite-domaine-de-bellevue/
LOCATION:Le comptoir de la vanille\, 168 B avenue principale\, Saint-Louis\, 97450\, Réunion
CATEGORIES:Public
ATTACH;FMTTYPE=image/jpeg:https://frt.re/wp-content/uploads/2023/09/341205528_23858955287170278_9070508935054787979_n.jpg
ORGANIZER;CN="Le%20comptoir%20de%20la%20vanille":MAILTO:sl.energie@gmail.com
END:VEVENT
END:VCALENDAR