BEGIN:VCALENDAR
VERSION:2.0
PRODID:-//Site de la Fédération Réunionnaise du Tourisme - ECPv6.1.1//NONSGML v1.0//EN
CALSCALE:GREGORIAN
METHOD:PUBLISH
X-WR-CALNAME:Site de la Fédération Réunionnaise du Tourisme
X-ORIGINAL-URL:https://frt.re
X-WR-CALDESC:évènements pour Site de la Fédération Réunionnaise du Tourisme
REFRESH-INTERVAL;VALUE=DURATION:PT1H
X-Robots-Tag:noindex
X-PUBLISHED-TTL:PT1H
BEGIN:VTIMEZONE
TZID:Indian/Reunion
BEGIN:STANDARD
TZOFFSETFROM:+0400
TZOFFSETTO:+0400
TZNAME:+04
DTSTART:20240101T000000
END:STANDARD
TZID:Europe/Paris
BEGIN:DAYLIGHT
TZOFFSETFROM:+0100
TZOFFSETTO:+0200
TZNAME:CEST
DTSTART:20240331T010000
END:DAYLIGHT
BEGIN:STANDARD
TZOFFSETFROM:+0200
TZOFFSETTO:+0100
TZNAME:CET
DTSTART:20241027T010000
END:STANDARD
END:VTIMEZONE
BEGIN:VEVENT
DTSTART;VALUE=DATE:20240901
DTEND;VALUE=DATE:20241001
DTSTAMP:20260424T064158
CREATED:20240903T032741Z
LAST-MODIFIED:20240903T032747Z
UID:10002656-1725148800-1727740799@frt.re
SUMMARY:L'Azenda Dionysien de Septembre
DESCRIPTION:L’Azenda Dionysien – SEPTEMBRE\n\n\nRestez connectés avec l’Azenda culturel de Septembre ! Toute la programmation juste ici \n\n\n Otakus laissez vous transporter par Manga Run jusqu’au 11 octobre\n\n\n Pour les amateurs de jazz\, préparez-vous à être envoûtés par les mélodies du Jedi du Jazz.\n\n\n Pour les passionnés de lecture et d’histoires captivantes\, ne manquez pas « Marmit Zistoir »\n Préparez-vous également pour la 41ème édition des Journées Européennes du Patrimoine\n\n\nPlein d’autres moments de partage et de découverte vous attendent ce mois de septembre.\nRetrouvez la programmation détaillée sur https://www.saintdenis.re/azendaculturelseptembre
URL:https://frt.re/evenement/lazenda-dionysien-de-septembre/
LOCATION:Saint-Denis\, 97400
CATEGORIES:Public
ATTACH;FMTTYPE=image/jpeg:https://frt.re/wp-content/uploads/2024/09/457221249_895330329285099_8547637708113730675_n.jpg
END:VEVENT
BEGIN:VEVENT
DTSTART;TZID=Europe/Paris:20240926T080000
DTEND;TZID=Europe/Paris:20240927T160000
DTSTAMP:20260424T064158
CREATED:20240722T101551Z
LAST-MODIFIED:20240808T042233Z
UID:10002606-1727337600-1727452800@frt.re
SUMMARY:Forum Inspirant des Pros du Tourisme
DESCRIPTION:Le Forum inspirant des pros du Tourisme revient en 2024 ! \nDécouvrez le programme & prendre vos billets : \nLe Forum Inspirant des Pros du Tourisme #3 est un événement organisé par et conçu pour les acteurs de l’industrie touristique de La Réunion. \n🚀 Ce rendez-vous inspirant pour les professionnels du tourisme de La Réunion se tiendra les 26 et 27 septembre 2024 dans le cadre exceptionnel et convivial du Jardin d’Eden – Ermitage. \n👉Réservez dès maintenant ces dates dans votre agenda et préparez-vous à vivre des moments inspirants et enrichissants ! \nAu programme de cette 3ème Edition : \n✅ Des conférences\, \n✅ Des pitch’s\, \n✅ Des tables rondes\, \n✅ Des ateliers\, \n✅ Des témoignages. \nRestez à l’affût pour découvrir prochainement nos intervenants ! \n✨Ne manquez pas cette opportunité unique de réseauter\, apprendre et vous inspirer dans un cadre exceptionnel et convivial \nPour découvrir le programme et acheter vos places\, rendez-vous sur 👇 la page Billetterie \nBilleterie
URL:https://frt.re/evenement/forum-inspirant-des-pros-du-tourisme-2/
LOCATION:Jardin d’Eden Saint Gilles\, Jardin d'Eden Saint Gilles\, saint-gilles\, 97434\, Réunion
CATEGORIES:Pros
ATTACH;FMTTYPE=image/jpeg:https://frt.re/wp-content/uploads/2024/07/thumbnail_VF-affiche-2024_partenaires_19072024.jpg
ORGANIZER;CN="Club%20du%20tourisme":MAILTO:contact@clubtourisme.re
GEO:-21.076654667957;55.229380169313
X-APPLE-STRUCTURED-LOCATION;VALUE=URI;X-ADDRESS=Jardin d’Eden Saint Gilles Jardin d'Eden Saint Gilles saint-gilles 97434 Réunion;X-APPLE-RADIUS=500;X-TITLE=Jardin d'Eden Saint Gilles:geo:55.229380169313,-21.076654667957
END:VEVENT
END:VCALENDAR