BEGIN:VCALENDAR
VERSION:2.0
PRODID:-//Site de la Fédération Réunionnaise du Tourisme - ECPv6.1.1//NONSGML v1.0//EN
CALSCALE:GREGORIAN
METHOD:PUBLISH
X-ORIGINAL-URL:https://frt.re
X-WR-CALDESC:évènements pour Site de la Fédération Réunionnaise du Tourisme
REFRESH-INTERVAL;VALUE=DURATION:PT1H
X-Robots-Tag:noindex
X-PUBLISHED-TTL:PT1H
BEGIN:VTIMEZONE
TZID:Indian/Reunion
BEGIN:STANDARD
TZOFFSETFROM:+0400
TZOFFSETTO:+0400
TZNAME:+04
DTSTART:20240101T000000
END:STANDARD
END:VTIMEZONE
BEGIN:VEVENT
DTSTART;VALUE=DATE:20241012
DTEND;VALUE=DATE:20241215
DTSTAMP:20260424T041359
CREATED:20241011T100559Z
LAST-MODIFIED:20241011T100603Z
UID:10002711-1728691200-1734220799@frt.re
SUMMARY:Corail en devenir
DESCRIPTION:Corail en Devenir part en tournée dans les Hauts!\n1ère étape : Ville de Trois-Bassins\n\n\nVous vous souvenez du récif pas comme les autres « Corail en Devenir »?\n\n\nC’est maintenant dans les Hauts que le conteneur va poser ses valises avec toujours la même mission : sensibiliser à la préservation des coraux et de la biodiversité marine.\n\n\nParticipez aux ateliers gratuits\, et donnez vie à des coraux uniques :\n\n\n Atelier de sensibilisation et visite du conteneur avec l’association Agence de Recherche pour la Biodiversité à la Réunion\n Atelier Fabrique ton corail avec l’association Agence de Recherche pour la Biodiversité à la Réunion\n\n\nLe conteneur est également ouvert en accès libre.\n\n\n Du 12 Octobre au 14 Décembre\nPendant les vacances scolaires : les mercredi\, vendredi & samedi de 8:30 à 12:00\nEn période scolaire : les mercredi & samedi de 8:30 à 12:00\n\n\n Parvis du pôle culturel L’Alambic – La culture dans les Hauts\n\n\nRéservez vos places pour les ateliers gratuits :\n 0693 20 01 55\n info@reunionmetis.re\n\n\nSculture de corail en céramique d’ Alice Aucuit\nVidéo L’île au corail de Simon Rouby\n\n\nUne création par Réunion Métis en partenariat avec l’Office de Tourisme de l’Ouest.
URL:https://frt.re/evenement/corail-en-devenir/
LOCATION:Trois-Bassins\, 97423\, Réunion
CATEGORIES:Public
ATTACH;FMTTYPE=image/jpeg:https://frt.re/wp-content/uploads/2024/10/462365201_871001081797099_2088217794540875531_n.jpg
ORGANIZER;CN="Territoire%20de%20la%20C%C3%B4te%20Ouest":MAILTO:courrier@tco.re
END:VEVENT
BEGIN:VEVENT
DTSTART;VALUE=DATE:20241104
DTEND;VALUE=DATE:20241111
DTSTAMP:20260424T041359
CREATED:20241031T035208Z
LAST-MODIFIED:20241031T035216Z
UID:10002754-1730678400-1731283199@frt.re
SUMMARY:SEMAINE COMMERCIALE ET ARTISANALE
DESCRIPTION:SEMAINE COMMERCIALE ET ARTISANALE  \n\n\nLe temps des bonnes affaires  est de retour \n\n\nLes commerçants et artisans de Saint-André\, en partenariat avec la ville\, vous invitent à la Semaine Commerciale et Artisanale du 4 au 10 novembre !\n\n\nDurant ces 7 jours\, commerçants et artisans vous proposeront des articles à des prix défiant toute concurrence dans une ambiance de fête  grâce au programme concocté par la municipalité :\n\n\n Déambulation de peluches géantes\, magicien\, maquillage pour enfants\, sculpture sur ballons\, animations musicale …\n\n\nNe ratez pas la nocturne organisée le samedi 09 novembre avec :\n\n\n– Les jeunes talents #DMM de Saint-André avec MC Olivier.\n– C’CILE et ses danseuses\n– LES CABIX (Spectacle humoristique)\n– ALGÉRIC\n– SECTEUR 410\n\n\n Le dimanche 10 novembre à partir de 15h :\n\n\nCe sont ORAGE\, TI MARCK\, FRÉDÉRIC JORON\,TAMARA (Jeune talent de Saint-André) et CLARA ROLAND qui se produiront et clôtureront cette semaine de bonnes affaires.\n\n\n Retrouvez le programme complet en cliquant sur le lien suivant : https://www.saint-andre.re/semaine-commerciale-et…/\n\n\n C’est la fête à Saint-André\, vien batte un carré \n\n\n#ville de Saint-André\, ville dynamique et festive
URL:https://frt.re/evenement/semaine-commerciale-et-artisanale/
LOCATION:Saint-André\, Réunion
CATEGORIES:Public
ATTACH;FMTTYPE=image/jpeg:https://frt.re/wp-content/uploads/2024/10/464847424_878162444464273_1127491289708086978_n.jpg
END:VEVENT
BEGIN:VEVENT
DTSTART;VALUE=DATE:20241104
DTEND;VALUE=DATE:20241117
DTSTAMP:20260424T041359
CREATED:20241106T051411Z
LAST-MODIFIED:20241106T051430Z
UID:10002772-1730678400-1731801599@frt.re
SUMMARY:Festival l'Est Lire
DESCRIPTION:𝐅𝐞𝐬𝐭𝐢𝐯𝐚𝐥 𝐋’𝐄𝐬𝐭 𝐋𝐢𝐫𝐞  Le Festival L’Est Lire s’inscrit dans le cadre du projet L’Est Littéraire de la CIREST\, une initiative visant à dynamiser la vie culturelle de la région Est de l’île de La Réunion. Ce projet propose ateliers et animations dédiés à la lecture et à l’écriture dans les lieux culturels locaux\, en réponse à la demande croissante des habitants pour des activités culturelles diversifiées et accessibles. 𝐀𝐮 𝐩𝐫𝐨𝐠𝐫𝐚𝐦𝐦𝐞 𝐝𝐞 𝐜𝐞 𝐬𝐚𝐦𝐞𝐝𝐢 𝟎𝟗 𝐧𝐨𝐯𝐞𝐦𝐛𝐫𝐞 𝟐𝟎𝟐𝟒 :– 𝑨𝒕𝒆𝒍𝒊𝒆𝒓 𝒅’𝑬́𝒄𝒓𝒊𝒕𝒖𝒓𝒆 𝑪𝒓𝒆́𝒂𝒕𝒊𝒗𝒆Horaire : De 09h00 à 12h30Lieu : Pôle de Compétence de la Rivière des RochesExploration de l’écriture et d’autres arts (peinture\, slam\, dessin) pour encourager l’expression créative des participants.– 𝑨𝒕𝒆𝒍𝒊𝒆𝒓 𝑳𝒊𝒕𝒕𝒆́𝒓𝒂𝒊𝒓𝒆 𝒆𝒕 𝑪𝒓𝒆́𝒂𝒕𝒊𝒇 (𝑻𝒉𝒆̀𝒎𝒆: 𝑺𝒕𝒂𝒓 𝑾𝒂𝒓𝒔)Lieu : Pôle de Compétence de la Rivière des RochesHoraire : De 14h00 à 16h30Création et réinvention d’histoires dans l’univers de Star Wars\, avec sessions de cosplay.– 𝑨𝒏𝒊𝒎𝒂𝒕𝒊𝒐𝒏 𝑺𝒕𝒂𝒓 𝑾𝒂𝒓𝒔 – 𝑳𝒆𝒔 𝑽𝒐𝒚𝒂𝒈𝒆𝒖𝒓𝒔 𝒅𝒆𝒔 𝑬́𝒕𝒐𝒊𝒍𝒆𝒔Lieu : Maison de quartier de la Rivière des RochesHoraire : De 14h00 à 16h30Intervenants : Cosplayers de l’association Les Voyageurs des ÉtoilesAnimation immersive Star Wars avec personnages en costume\, jeux de sabre laser\, quiz et séances photo.𝐓𝐨𝐮𝐭 𝐏𝐮𝐛𝐥𝐢𝐜 / 𝐑𝐞𝐧𝐬𝐞𝐢𝐠𝐧𝐞𝐦𝐞𝐧𝐭𝐬 𝐚𝐮 𝟎𝟐𝟔𝟐 𝟓𝟎 𝟖𝟖 𝟐𝟎
URL:https://frt.re/evenement/festival-lest-lire/
LOCATION:Saint-Benoit\, 97470\, Réunion
CATEGORIES:Public
ATTACH;FMTTYPE=image/jpeg:https://frt.re/wp-content/uploads/2024/11/465271261_970566605097285_8943556947215487533_n.jpg
ORGANIZER;CN="CIREST":MAILTO:com@cirest.fr
END:VEVENT
BEGIN:VEVENT
DTSTART;VALUE=DATE:20241104
DTEND;VALUE=DATE:20241129
DTSTAMP:20260424T041359
CREATED:20241022T095854Z
LAST-MODIFIED:20241022T095858Z
UID:10002744-1730678400-1732838399@frt.re
SUMMARY:Festival Souffle O.I #5
DESCRIPTION:Le Festival SOUFFLE o.I. #5\n\nlLa plateforme de la création en danse dans l’océan Indien à La Réunion\, accueillera cette année 17 chorégraphes du Sud et de toute la région (Réunion\, Mayotte\, Comores\, Inde\, Madagascar et Biarritz) :\n\n\nArushi Mudgal / Njara Rasami\, Compagnie Rianala / Aptchie\, Royaume des fleurs – Cie Kazyadance / Julie Comtois / Cie Danses En L’r / Julie Iarisoa\, Compagnie Anjorombala / Studio Maray / Lilcé VM\, Royaume des fleurs – Cie Kazyadance / Soul City-Didier Boutiana / Hamza Lenoir\, Royaume des fleurs – Cie Kazyadance / LUNA NINJA\, Maison Laveaux / Robin Fabre Elissalde\, Compagnie Masfarné / Salim M’ze Hamadi Moissi\, Cie Tché-Za / Soraya Thomas\, Morphose / Sylvie Robert\, Compagnie Argile / Thierry Malandain\, Malandain Ballet Biarritz / Thierry ZL / Véronique Asencio\, Compagnie Véronique Asencio\n\n\nPendant les travaux du Théâtre de Pierrefonds – Saint-Pierre\, l’ensemble du programme est réalisé grâce à la ville de Saint-Pierre qui met à disposition les scènes : le Belvédère sur la plage\, et la grande scène dans le cadre du Dipavali le dimanche 10 novembre en partenariat avec Culture Saint-Pierre\, mais aussi dans les salles partenaires.\n\n\nL’image du festival a été créée en collaboration artistique Lalanbik pour Souffle o.I.#5 avec Mother Luna Laveaux et ©Guillaume Haurice Photographie – retouche de l’image : Lékip Lalanbik.
URL:https://frt.re/evenement/festival-souffle-o-i-5/
LOCATION:Saint-Pierre\, Réunion
CATEGORIES:Public
ATTACH;FMTTYPE=image/jpeg:https://frt.re/wp-content/uploads/2024/10/461525659_833552735602445_6670736674049470395_n.jpg
END:VEVENT
BEGIN:VEVENT
DTSTART;VALUE=DATE:20241106
DTEND;VALUE=DATE:20241109
DTSTAMP:20260424T041359
CREATED:20241015T052945Z
LAST-MODIFIED:20241015T052951Z
UID:10002720-1730851200-1731110399@frt.re
SUMMARY:Intermèdes Nature
DESCRIPTION:Intermèdes Nature revient pour la 6e année !\n𝗠𝗲𝗿𝗰𝗿𝗲𝗱𝗶 𝟲 𝗻𝗼𝘃𝗲𝗺𝗯𝗿𝗲 – 𝟭𝟵𝗵𝟬𝟬 – 𝗩𝗼𝘆𝗮𝗴𝗲 𝘀𝗮𝘂𝘃𝗮𝗴𝗲 Cactus HôtelUn film de Yann Sochaczewski.Allemagne – 2023 – 50 min\n SAUVAGE – Le Chamois\, l’Aigle et le LoupUn film de Anne\, Véronique & Erik LAPIED.France – 2023 – 60 min\nhttps://lespas.re/intermedes-nature-6-voyage-sauvage/\n𝗝𝗲𝘂𝗱𝗶 𝟳 𝗻𝗼𝘃𝗲𝗺𝗯𝗿𝗲 – 𝟭𝟵𝗵𝟬𝟬 – 𝗦𝗼𝘂𝘀 𝘁𝗲𝗿𝗿𝗲 𝗲𝘁 𝗱𝗮𝗻𝘀 𝗹𝗲𝘀 𝗮𝗶𝗿𝘀 Au pays de l’abeille noire – Les quatre saisons d’une rucheRéalisation : Marie AlartAuteur : Samuel ToutainProduction : GUINDALA PRODUCTION | AMPERSANDFrance – 2023 – 50 min\n Planète collemboles\, la vie secrète des solsUn film de Philippe LEBEAUX (Stéphane MARMOL / Wide – Mona Lisa Production)France – 2023 – 52 min\nhttps://lespas.re/intermedes-nature-6-sous-terre-dans…/\n𝗩𝗲𝗻𝗱𝗿𝗲𝗱𝗶 𝟴 𝗻𝗼𝘃𝗲𝗺𝗯𝗿𝗲 – 𝟭𝟵𝗵𝟬𝟬 – 𝗧𝗲𝗿𝗿𝗲𝘀 𝗱’𝗲𝗮𝘂\, 𝘃𝗶𝘃𝗮𝗻𝘁𝗲𝘀 𝗲𝘁 𝘃𝗶𝘁𝗮𝗹𝗲𝘀 Les zones humides de La RéunionEn partenariat avec l’Agence Régionale de la Biodiversité de La RéunionLa Réunion – 10 min\n Trésor cachéEn partenariat avec l’Ecole Louise SiaraneLa Réunion – 15 min\n Le mystérieux voyage des oiseaux de rivageUn film de Randal Wood.France\, Australie – 2022 – 60 min\nhttps://lespas.re/intermedes-nature-6-terres-deau…/\nEn partenariat avec la Réserve Naturelle Nationale de l’Étang Saint-Paul\nTarif unique 3\,50 euros par soirée
URL:https://frt.re/evenement/intermedes-nature-2/
LOCATION:Léspas Culturel Leconte de Lisle\, 5 Rue Eugene Dayot\, Saint-Paul\, 97460\, Réunion
ATTACH;FMTTYPE=image/jpeg:https://frt.re/wp-content/uploads/2024/10/461677656_1128181508745220_8609093982062336143_n.jpg
END:VEVENT
BEGIN:VEVENT
DTSTART;VALUE=DATE:20241106
DTEND;VALUE=DATE:20241109
DTSTAMP:20260424T041359
CREATED:20241031T082524Z
LAST-MODIFIED:20241031T082529Z
UID:10002765-1730851200-1731110399@frt.re
SUMMARY:11ème édition de l’Université Rurale de l’océan Indien
DESCRIPTION:La 11ème édition de l’Université Rurale de l’océan Indien (UROI) se tiendra du 6 au 8 novembre.Cette année\, la thématique porte sur la souveraineté alimentaire.Une UROI qui revêt une importance particulilère. Elle fête\, d’une part\, ses 20 ans et elle permet\, d’autre part\, de s’interroger sur notre capacité à faire face aux défis alimentaires de nos territoire insulaires. \nLe programme complet est à découvrir sur le site https://www.saintjoseph.re/11eme-Unviersite-Rurale-de-l-ocean
URL:https://frt.re/evenement/11eme-edition-de-luniversite-rurale-de-locean-indien/
LOCATION:Ville de Saint-Joseph\, 277\, rue Raphaël Babet\, Saint-Joseph\, 97480\, Réunion
CATEGORIES:Public
ATTACH;FMTTYPE=image/jpeg:https://frt.re/wp-content/uploads/2024/10/uroi2024-1.jpg
END:VEVENT
BEGIN:VEVENT
DTSTART;VALUE=DATE:20241108
DTEND;VALUE=DATE:20241111
DTSTAMP:20260424T041359
CREATED:20240830T052028Z
LAST-MODIFIED:20241106T044806Z
UID:10002650-1731024000-1731283199@frt.re
SUMMARY:DIPAVALI 2024
DESCRIPTION:DIPAVALI 2024 DANS LES STARTING BLOCKS \n\n\n On démarre les festivités avec des animations partout en ville….\n\n\n Ensuite\, on vous accueillera sur notre front de mer du 8 au 10 novembre avec des conférences incroyables\, une exposition sur les bal tamouls  \, un village indien avec des artisans\, du yoga\, de bonnes choses à déguster (jusqu’à 23h dimanche)\, un défilé sur l’Art en Lumière  incroyable de TERRE SAINTE au parking Jean Albany avec des chars 100% saint pierrois\, et ce n’est pas tout !!!\n\n\nOn vous prépare un VRAI MARIAGE INDIEN\, oui oui oui : comme SI VOUS ETIEZ EN INDE en une vingtaine d’étapes et place à la fiesta indienne samedi soir\, on danse Bollywood….\n\n\nEt notre invitée vedette  est la danseuse indienne Arushi Mugdal\, qui est venue avec ses musiciens et danseurs depuis l’Inde\n\n\nSaint-Pierre\, capitale du Sud a mis les petits plats dans les grands rien que pour vous. TOUT EST GRATUIT du 8 au 10.
URL:https://frt.re/evenement/dipavali-2024/
LOCATION:Saint-Pierre\, Réunion
CATEGORIES:Public
ATTACH;FMTTYPE=image/jpeg:https://frt.re/wp-content/uploads/2024/08/457109734_122171228558206450_5040509753363608199_n.jpg
END:VEVENT
BEGIN:VEVENT
DTSTART;VALUE=DATE:20241108
DTEND;VALUE=DATE:20241112
DTSTAMP:20260424T041359
CREATED:20241031T081119Z
LAST-MODIFIED:20241031T081124Z
UID:10002764-1731024000-1731369599@frt.re
SUMMARY:Fête du Safran
DESCRIPTION:Le Safran en Fête\, c’est du 8 au 11 novembre à la Plaine des Grègues !\nDores et déjà\, retrouvez le programme complet de l’évènement ci dessous !\nProgramme Fête du Safran
URL:https://frt.re/evenement/fete-du-safran/
LOCATION:Plaine des Grègues\, Saint-Joseph\, 97480
CATEGORIES:Public
ATTACH;FMTTYPE=image/jpeg:https://frt.re/wp-content/uploads/2024/10/464926573_953429403669936_3544033256957473805_n.jpg
END:VEVENT
BEGIN:VEVENT
DTSTART;TZID=Indian/Reunion:20241108T100000
DTEND;TZID=Indian/Reunion:20241111T180000
DTSTAMP:20260424T041359
CREATED:20241106T070335Z
LAST-MODIFIED:20241107T042958Z
UID:10002777-1731060000-1731348000@frt.re
SUMMARY:L'EST Aventures
DESCRIPTION:𝙀́𝙫𝙚́𝙣𝙚𝙢𝙚𝙣𝙩 𝙇’𝙀𝙨𝙩 𝘼𝙫𝙚𝙣𝙩𝙪𝙧𝙚𝙨 : 𝙛𝙖𝙞𝙩𝙚𝙨 𝙡𝙚 𝙥𝙡𝙚𝙞𝙣 𝙙𝙚 𝙙𝙚́𝙘𝙤𝙪𝙫𝙚𝙧𝙩𝙚𝙨 ! \n𝗟𝗲𝘀 𝟬𝟴 𝗲𝘁 𝟬𝟵 𝗻𝗼𝘃𝗲𝗺𝗯𝗿𝗲\n𝗖𝗵𝗮𝗺𝗽 𝗱𝗲 𝗳𝗼𝗶𝗿𝗲 𝗱𝗲 𝗕𝗿𝗮𝘀-𝗣𝗮𝗻𝗼𝗻\n𝗗𝗲 𝟭𝟬𝗵𝟬𝟬 𝗮̀ 𝟭𝟴𝗵𝟬𝟬 \nLa CIREST vous invite à L’Est Aventures\, un événement unique pour découvrir et tester des activités de pleine nature ! Venez rencontrer des prestataires passionnés qui vous présenteront leurs sports de plein air préférés. Profitez d’un espace santé\, d’animations familiales comme l’accrobranche\, l’escalade et le trampoline ! \n𝗟𝗲 𝟭𝟬 𝗲𝘁 𝗹𝗲 𝟭𝟭 𝗻𝗼𝘃𝗲𝗺𝗯𝗿𝗲\, l’Est Aventures vous donne l’opportunité de tester gratuitement\, sur tout le territoire\, plusieurs activités. \nLe programme complet ici > https://urls.fr/9jgjZO \nAttention\, le 𝗻𝗼𝗺𝗯𝗿𝗲 𝗱𝗲 𝗽𝗹𝗮𝗰𝗲𝘀 𝗲́𝘁𝗮𝗻𝘁 𝗹𝗶𝗺𝗶𝘁𝗲́\, le principe est de s’inscrire préalablement et 𝗼𝗯𝗹𝗶𝗴𝗮𝘁𝗼𝗶𝗿𝗲𝗺𝗲𝗻𝘁 auprès de Côté Est Réunion au 𝟬𝟮𝟲𝟮 𝟰𝟲 𝟭𝟲 𝟭𝟲 𝗱𝗲̀𝘀 𝗹𝗲 𝗹𝘂𝗻𝗱𝗶 𝟰 𝗻𝗼𝘃𝗲𝗺𝗯𝗿𝗲 𝟮𝟬𝟮𝟰. \nNe manquez pas cette aventure en famille ou entre amis ! \nhttps://reunion-parcnational.fr/fr \nhttps://www.cirest.fr/ \nhttps://www.reunionest.fr/ \nhttps://reunion.fr/ \nFédération Réunionnaise de Tourisme \nhttps://www.creps-reunion.fr/
URL:https://frt.re/evenement/lest-aventures/
LOCATION:Bras Panon\, Bras Panon\, 97412\, Réunion
CATEGORIES:Public
ATTACH;FMTTYPE=image/jpeg:https://frt.re/wp-content/uploads/2024/11/fb3710a6-aeca-43d9-a0ed-87de6763350e-1.jpg
ORGANIZER;CN="CIREST":MAILTO:com@cirest.fr
END:VEVENT
BEGIN:VEVENT
DTSTART;TZID=Indian/Reunion:20241108T190000
DTEND;TZID=Indian/Reunion:20241108T210000
DTSTAMP:20260424T041359
CREATED:20241031T050242Z
LAST-MODIFIED:20241031T050246Z
UID:10002763-1731092400-1731099600@frt.re
SUMMARY:Relais aux Flambeaux
DESCRIPTION:[J-8]  𝐑𝐞𝐥𝐚𝐢𝐬 𝐚𝐮𝐱 𝐅𝐥𝐚𝐦𝐛𝐞𝐚𝐮𝐱 : inscrivez vite votre équipe !! \n\n\n𝑷𝒓𝒆̂𝒕 𝒑𝒐𝒖𝒓 𝒖𝒏 𝒏𝒐𝒖𝒗𝒆𝒂𝒖 𝒅𝒆́𝒇𝒊 𝒔𝒑𝒐𝒓𝒕𝒊𝒇 ??\n\n\nComme chaque année\, la Ville de Saint-Benoît organise son traditionnel relais aux flambeaux le 𝐯𝐞𝐧𝐝𝐫𝐞𝐝𝐢 𝟎𝟖 𝐧𝐨𝐯𝐞𝐦𝐛𝐫𝐞 à l’occasion de la semaine de l’Athlétisme ! \n\n\n 𝐋𝐞 𝐝𝐞́𝐩𝐚𝐫𝐭 𝐬𝐞𝐫𝐚 𝐝𝐨𝐧𝐧𝐞́ 𝐚̀ 𝟏𝟗 𝐡𝐞𝐮𝐫𝐞𝐬\, 𝐬𝐮𝐫 𝐥’𝐞𝐬𝐩𝐥𝐚𝐧𝐚𝐝𝐞 𝐝𝐮 𝐟𝐫𝐨𝐧𝐭 𝐝𝐞 𝐦𝐞𝐫.\n\n\n Le relais aux flambeaux est une course grand public et accessible à tous (à partir de 16 ans)\, peu importe le niveau. Les équipes sont composées de 5 relayeurs et 1 remplaçant. Chaque relayeur devra parcourir une distance de 800 m dans les rues du centre-ville bénédictin.\n\n\n Challenges : Féminin – Masculin – Mixte – Handi – Spécial licenciés\n\n\n 𝐈𝐧𝐬𝐜𝐫𝐢𝐯𝐞𝐳-𝐯𝐨𝐮𝐬 𝐣𝐮𝐬𝐪𝐮’𝐚𝐮 𝐯𝐞𝐧𝐝𝐫𝐞𝐝𝐢 𝟎𝟖 𝐧𝐨𝐯𝐞𝐦𝐛𝐫𝐞 𝐚̀ 𝟏𝟐𝐡 𝐞𝐧 𝐜𝐨𝐧𝐭𝐚𝐜𝐭𝐚𝐧𝐭 𝐥𝐚 𝐝𝐢𝐫𝐞𝐜𝐭𝐢𝐨𝐧 𝐝𝐞𝐬 𝐬𝐩𝐨𝐫𝐭𝐬 𝐚𝐮 𝟎𝟐𝟔𝟐 𝟓𝟎 𝟖𝟗 𝟔𝟕.
URL:https://frt.re/evenement/relais-aux-flambeaux/
LOCATION:Saint-Benoit\, 97470\, Réunion
ATTACH;FMTTYPE=image/jpeg:https://frt.re/wp-content/uploads/2024/10/464967235_966483042172308_8603307174636969942_n.jpg
END:VEVENT
BEGIN:VEVENT
DTSTART;TZID=Indian/Reunion:20241108T200000
DTEND;TZID=Indian/Reunion:20241108T230000
DTSTAMP:20260424T041359
CREATED:20241022T095245Z
LAST-MODIFIED:20241022T095255Z
UID:10002743-1731096000-1731106800@frt.re
SUMMARY:Colors Kiki Ball
DESCRIPTION:Préparez-vous pour un moment historique à Saint-Pierre ! \n\n\nPour la toute première fois\, le sud de l’île accueille un Kiki Ball\, et ça va être épique ! \nRendez-vous le vendredi 8 novembre à 20h sur le front de mer de Saint-Pierre pour un spectacle haut en couleurs et en énergie !\n\n\nVous n’avez jamais assisté à un Ball ? C’est l’occasion rêvée de découvrir un univers où danse\, mode et performances explosent de créativité et de talent ! \n\n\n Le Colors Kiki Ball\, c’est une célébration où tout le monde est bienvenu\, un moment où chaque personne peut exprimer sa créativité et partager la beauté du mouvement. Gratuit et ouvert à tous\, cet événement inédit s’inscrit dans le cadre du Festival Souffle O.I #5 avec @lalanbik \, et rend hommage à la fête du Dipavali avec des performances uniques et vibrantes.\n\n\nPourquoi venir ?\nParce que c’est une première dans le sud\, parce que ce sera un spectacle unique\, et parce que ça va faire bouger Saint-Pierre comme jamais !  Avec des lip sync inspirés des plus grands hits Bollywood et des catégories de danse qui vont vous éblouir\, vous allez vivre une soirée inoubliable !\n\n\n Dress code : Coloré ! Enfilez vos plus belles couleurs et venez vibrer avec nous dans cette ambiance festive et pleine de joie !\n\n\n Lieu : Front de mer\, Saint-Pierre\n Date : 8 novembre 2024\n Heure : 20h00\n\n\n Le sud n’a jamais vu ça ! Venez nombreux découvrir et faire partie de cette première qui marquera les esprits et la culture locale. C’est gratuit\, c’est ouvert à tous\, et c’est LE rendez-vous à ne pas manquer ! \n\n\n Pour plus d’informations sur les catégories\, cliquez sur le lien en bio
URL:https://frt.re/evenement/colors-kiki-ball/
LOCATION:Saint-Pierre\, Réunion
CATEGORIES:Public
ATTACH;FMTTYPE=image/jpeg:https://frt.re/wp-content/uploads/2024/10/461508659_18467268274048735_3409224640815145935_n.jpg
END:VEVENT
END:VCALENDAR