BEGIN:VCALENDAR
VERSION:2.0
PRODID:-//Site de la Fédération Réunionnaise du Tourisme - ECPv6.1.1//NONSGML v1.0//EN
CALSCALE:GREGORIAN
METHOD:PUBLISH
X-WR-CALNAME:Site de la Fédération Réunionnaise du Tourisme
X-ORIGINAL-URL:https://frt.re
X-WR-CALDESC:évènements pour Site de la Fédération Réunionnaise du Tourisme
REFRESH-INTERVAL;VALUE=DURATION:PT1H
X-Robots-Tag:noindex
X-PUBLISHED-TTL:PT1H
BEGIN:VTIMEZONE
TZID:Europe/Paris
BEGIN:DAYLIGHT
TZOFFSETFROM:+0100
TZOFFSETTO:+0200
TZNAME:CEST
DTSTART:20230326T010000
END:DAYLIGHT
BEGIN:STANDARD
TZOFFSETFROM:+0200
TZOFFSETTO:+0100
TZNAME:CET
DTSTART:20231029T010000
END:STANDARD
END:VTIMEZONE
BEGIN:VEVENT
DTSTART;VALUE=DATE:20231208
DTEND;VALUE=DATE:20231210
DTSTAMP:20260424T155536
CREATED:20231027T015800Z
LAST-MODIFIED:20231027T015811Z
UID:10001973-1701993600-1702166399@frt.re
SUMMARY:REUNION DATAVIZ CHALLENGE
DESCRIPTION:Vous êtes étudiants\, professionnels\, et passionnés par les données\, libérez votre génie créatif lors de la 1ère édition du Réunion Dataviz Challenge organisée par la Région et ses partenaires\, les 8 et 9 décembre 2023 a Techsud \n**Comment s’inscrire ?** Rendez-vous sur le site de la Région Réunion https://lnkd.in/eXCVJGS4 \nVos efforts seront récompensés par des prix en numéraire (5000 € de notre partenaire EDF) et de nombreux lots ! \nNotez bien : la clôture des inscriptions est fixée au 1er décembre 202
URL:https://frt.re/evenement/reunion-dataviz-challenge/
LOCATION:Techsud\, 27 Ave Docteur Jean Marie Dambreville\, Saint-Pierre\, 97410\, Réunion
CATEGORIES:Grd Public et Professionnel du tourisme,Public
ATTACH;FMTTYPE=image/jpeg:https://frt.re/wp-content/uploads/2023/10/REUNION-DATAVIZ-CHALLENGE-1.jpg
END:VEVENT
END:VCALENDAR