BEGIN:VCALENDAR
VERSION:2.0
PRODID:-//Site de la Fédération Réunionnaise du Tourisme - ECPv6.1.1//NONSGML v1.0//EN
CALSCALE:GREGORIAN
METHOD:PUBLISH
X-WR-CALNAME:Site de la Fédération Réunionnaise du Tourisme
X-ORIGINAL-URL:https://frt.re
X-WR-CALDESC:évènements pour Site de la Fédération Réunionnaise du Tourisme
REFRESH-INTERVAL;VALUE=DURATION:PT1H
X-Robots-Tag:noindex
X-PUBLISHED-TTL:PT1H
BEGIN:VTIMEZONE
TZID:Europe/Paris
BEGIN:DAYLIGHT
TZOFFSETFROM:+0100
TZOFFSETTO:+0200
TZNAME:CEST
DTSTART:20230326T010000
END:DAYLIGHT
BEGIN:STANDARD
TZOFFSETFROM:+0200
TZOFFSETTO:+0100
TZNAME:CET
DTSTART:20231029T010000
END:STANDARD
BEGIN:DAYLIGHT
TZOFFSETFROM:+0100
TZOFFSETTO:+0200
TZNAME:CEST
DTSTART:20240331T010000
END:DAYLIGHT
BEGIN:STANDARD
TZOFFSETFROM:+0200
TZOFFSETTO:+0100
TZNAME:CET
DTSTART:20241027T010000
END:STANDARD
TZID:Indian/Reunion
BEGIN:STANDARD
TZOFFSETFROM:+0400
TZOFFSETTO:+0400
TZNAME:+04
DTSTART:20250101T000000
END:STANDARD
END:VTIMEZONE
BEGIN:VEVENT
DTSTART;VALUE=DATE:20230102
DTEND;VALUE=DATE:20230123
DTSTAMP:20260425T002207
CREATED:20230102T034047Z
LAST-MODIFIED:20230102T034059Z
UID:10001555-1672617600-1674431999@frt.re
SUMMARY:Aquarium - Programme vacances
DESCRIPTION:Découvrez notre programme d’animation de ces vacances de janvier !
URL:https://frt.re/evenement/aquarium-programme-vacances/
LOCATION:Aquarium de La réunion\, Port de la plaisance\, Saint-Gilles les Bains\, 97434\, Réunion
CATEGORIES:Public
ATTACH;FMTTYPE=image/jpeg:https://frt.re/wp-content/uploads/2023/01/aquarium.jpg
ORGANIZER;CN="Aquarium%20de%20La%20R%C3%A9union":MAILTO:contact@aquariumdelareunion.com
END:VEVENT
BEGIN:VEVENT
DTSTART;VALUE=DATE:20230311
DTEND;VALUE=DATE:20230327
DTSTAMP:20260425T002207
CREATED:20230315T024442Z
LAST-MODIFIED:20230315T024447Z
UID:10001428-1678492800-1679875199@frt.re
SUMMARY:Les vacances à l'Aquarium de La Réunion
DESCRIPTION:C’est les vacances dans quelques jours ! \nSuivez le programme d’animation de notre équipe du 11 au 26 mars \ndes plongées nourrissage commentées\ndes rencontres avec nos biologistes\ndes aventures avec l’expédition La Pérouse\ndes missions scientifiques\nla visite de nos coulisses
URL:https://frt.re/evenement/les-vacances-a-laquarium-de-la-reunion/
LOCATION:Aquarium de La réunion\, Port de la plaisance\, Saint-Gilles les Bains\, 97434\, Réunion
CATEGORIES:Public
ATTACH;FMTTYPE=image/jpeg:https://frt.re/wp-content/uploads/2023/03/aquarium.jpg
ORGANIZER;CN="Aquarium%20de%20La%20R%C3%A9union":MAILTO:contact@aquariumdelareunion.com
END:VEVENT
BEGIN:VEVENT
DTSTART;VALUE=DATE:20240504
DTEND;VALUE=DATE:20240521
DTSTAMP:20260425T002207
CREATED:20240506T015136Z
LAST-MODIFIED:20240506T015202Z
UID:10002241-1714780800-1716249599@frt.re
SUMMARY:Programme vacances Aquarium de La Réunion
DESCRIPTION:Suivez le programme des vacances !\nEt retrouvez nos pensionnaires et nos équipes autour d’animations instructives \nNous sommes ouverts tous les jours y compris les jours fériés!
URL:https://frt.re/evenement/programme-vacances-aquarium-de-la-reunion/
LOCATION:Aquarium de La réunion\, Port de la plaisance\, Saint-Gilles les Bains\, 97434\, Réunion
CATEGORIES:Public
ATTACH;FMTTYPE=image/jpeg:https://frt.re/wp-content/uploads/2024/05/427299976_6639495143216_2148526095734261796_n.jpg
ORGANIZER;CN="Aquarium%20de%20La%20R%C3%A9union":MAILTO:contact@aquariumdelareunion.com
END:VEVENT
BEGIN:VEVENT
DTSTART;VALUE=DATE:20250715
DTEND;VALUE=DATE:20250818
DTSTAMP:20260425T002207
CREATED:20250710T075011Z
LAST-MODIFIED:20250710T075015Z
UID:10003031-1752537600-1755475199@frt.re
SUMMARY:Programme vacances Aquarium de La Réunion
DESCRIPTION:Hiver austral\,Suivez le programme!Nos équipes pédagogiques vous proposent un vaste choix d’animations majoritairement gratuites autour du Respect des mammifères marins.Découvrez nos nouvelles animations dès le 15 juillet .Les réservations pour les animations payantes sont dès à présent ouvertes.Nous sommes à votre écoute sur nos réseaux\, au 0262 33 44 00 ou sur contact@aquariumdelareunion.com
URL:https://frt.re/evenement/programme-vacances-aquarium-de-la-reunion-2/
LOCATION:Aquarium de La réunion\, Port de la plaisance\, Saint-Gilles les Bains\, 97434\, Réunion
CATEGORIES:Public
ATTACH;FMTTYPE=image/jpeg:https://frt.re/wp-content/uploads/2025/07/514404870_1049563310703448_1064288119702347679_n.jpg
ORGANIZER;CN="Aquarium%20de%20La%20R%C3%A9union":MAILTO:contact@aquariumdelareunion.com
END:VEVENT
END:VCALENDAR