BEGIN:VCALENDAR
VERSION:2.0
PRODID:-//Site de la Fédération Réunionnaise du Tourisme - ECPv6.1.1//NONSGML v1.0//EN
CALSCALE:GREGORIAN
METHOD:PUBLISH
X-WR-CALNAME:Site de la Fédération Réunionnaise du Tourisme
X-ORIGINAL-URL:https://frt.re
X-WR-CALDESC:évènements pour Site de la Fédération Réunionnaise du Tourisme
REFRESH-INTERVAL;VALUE=DURATION:PT1H
X-Robots-Tag:noindex
X-PUBLISHED-TTL:PT1H
BEGIN:VTIMEZONE
TZID:Europe/Paris
BEGIN:DAYLIGHT
TZOFFSETFROM:+0100
TZOFFSETTO:+0200
TZNAME:CEST
DTSTART:20230326T010000
END:DAYLIGHT
BEGIN:STANDARD
TZOFFSETFROM:+0200
TZOFFSETTO:+0100
TZNAME:CET
DTSTART:20231029T010000
END:STANDARD
TZID:Indian/Reunion
BEGIN:STANDARD
TZOFFSETFROM:+0400
TZOFFSETTO:+0400
TZNAME:+04
DTSTART:20250101T000000
END:STANDARD
END:VTIMEZONE
BEGIN:VEVENT
DTSTART;TZID=Europe/Paris:20231018T090000
DTEND;TZID=Europe/Paris:20231018T170000
DTSTAMP:20260421T152303
CREATED:20231003T034515Z
LAST-MODIFIED:20231003T034525Z
UID:10001939-1697619600-1697648400@frt.re
SUMMARY:Alon Pass'Manette
DESCRIPTION: 𝗧𝗢𝗨𝗥𝗡𝗢𝗜 𝗗𝗘 𝗝𝗘𝗨𝗫 𝗦𝗨𝗥 𝗖𝗢𝗡𝗦𝗢𝗟𝗘𝗦  🏆\n🎮 Mercredi 18 octobre\, à partir de 9h\, l’événement ALON PASS’MANETTE se tiendra au Blue Bayou.\n📝 Inscriptions obligatoires pour :\nla compétition de EA FC 24 – anciennement FIFA (42 places)\nla compétition Mario Kart (32 places)\navec des cadeaux à gagner !\nℹ️ Vous avez jusqu’au 16 Octobre pour vous inscrire via le lien ci-dessous :\nhttps://forms.gle/HCebFC3isoKxDAjH8\nIl y aura libre accès aux consoles pour tous !\nVenez jouer sans avoir à vous inscrire.\n🙌 Parmi les jeux proposés\, retrouvez : Tekken\, Street Fighter VI\, Mario Kart\, Super Smash Bros\, Mario Battle League Football\, EA FC 24\, Rocket League\, Just Dance 2023\, Gran Turismo et plein d’autres encore.
URL:https://frt.re/evenement/alon-passmanette-5/
LOCATION:Blue Bayou\, chemin Village\, Etang-Salé\, 97427\, Réunion
CATEGORIES:Public
ATTACH;FMTTYPE=image/jpeg:https://frt.re/wp-content/uploads/2023/10/386247232_335629182321466_6312301212694426503_n.jpg
END:VEVENT
BEGIN:VEVENT
DTSTART;TZID=Indian/Reunion:20250219T183000
DTEND;TZID=Indian/Reunion:20250219T213000
DTSTAMP:20260421T152303
CREATED:20250213T060808Z
LAST-MODIFIED:20250213T060813Z
UID:10002917-1739989800-1740000600@frt.re
SUMMARY:Banian Festival
DESCRIPTION:À vos agendas !\n\n\n La ville de L’Étang-Salé est heureuse de vous convier au “BANIAN FESTIVAL”\n Le 19 février dès 18h45 au Blue Bayou.\n\n\n Un évènement gratuit\,\n\n\n Au programme :\n 18h45 Tambour\n 19h15 Duo carnatique (mridangam\, saxophone)\n 19h45 Hommage à Rukmini Devi\n 20h Kriké Krake\, « mariage Seeta » avec Annie Grondin et des élèves du Crr\n 20h30 Introduction parfum Bharata Natyam\n 20h45 Chandrakala\, spectacle Bharata Natyam par Vincent Pinault\, Julie Comtois et des élèves du Crr\n\n\n Ne ratez pas cette invitation au voyage
URL:https://frt.re/evenement/banian-festival/
LOCATION:Blue Bayou\, chemin Village\, Etang-Salé\, 97427\, Réunion
CATEGORIES:Public
ATTACH;FMTTYPE=image/jpeg:https://frt.re/wp-content/uploads/2025/02/478023436_1025263186297433_4414478102370597608_n.jpg
END:VEVENT
END:VCALENDAR