BEGIN:VCALENDAR
VERSION:2.0
PRODID:-//Site de la Fédération Réunionnaise du Tourisme - ECPv6.1.1//NONSGML v1.0//EN
CALSCALE:GREGORIAN
METHOD:PUBLISH
X-WR-CALNAME:Site de la Fédération Réunionnaise du Tourisme
X-ORIGINAL-URL:https://frt.re
X-WR-CALDESC:évènements pour Site de la Fédération Réunionnaise du Tourisme
REFRESH-INTERVAL;VALUE=DURATION:PT1H
X-Robots-Tag:noindex
X-PUBLISHED-TTL:PT1H
BEGIN:VTIMEZONE
TZID:Indian/Reunion
BEGIN:STANDARD
TZOFFSETFROM:+0400
TZOFFSETTO:+0400
TZNAME:+04
DTSTART:20240101T000000
END:STANDARD
END:VTIMEZONE
BEGIN:VEVENT
DTSTART;VALUE=DATE:20240928
DTEND;VALUE=DATE:20240929
DTSTAMP:20260420T200605
CREATED:20240927T200000Z
LAST-MODIFIED:20240916T102648Z
UID:10002665-1727481600-1727567999@frt.re
SUMMARY:LA GUINGUETTE SAINT-GILLOISE
DESCRIPTION:LA GUINGUETTE SAINT-GILLOISE REVIENT !\nPréparez-vous à danser\, à manger\, à rire\, à vous amuser dans les rues de Saint-Gilles et sur le Port de Plaisance le samedi 28 septembre à partir de 18h ! \nLes Bars\, les restaurants et toutes les animations seront dans la rue\, dont certaines deviendront piétonnes pour l’occasion ! Des navettes gratuites seront disponibles.\n \nAmbiance assurée ! Découvrez tout le programme en visitant le site internet de l’Office de Tourisme de l’Ouest : \n💃Cliquez ici ! \nUn évènement organisé par l’Office de Tourisme de l’Ouest\, en partenariat avec l’association actions et animations saint-gilloises\, les Ports de plaisance Ouest\, la ville de Saint-Paul et le Territoire de l’Ouest.
URL:https://frt.re/evenement/la-guinguette-saint-gilloise/
LOCATION:Centre-Ville et port de plaisance de Saint-Gilles\, Réunion
CATEGORIES:Public
ATTACH;FMTTYPE=image/jpeg:https://frt.re/wp-content/uploads/2024/09/Guinguette-St-Gilloise.jpg
ORGANIZER;CN="Office%20de%20Tourisme%20Intercommunal%20de%20l%27Ouest":MAILTO:accueil@ouest-lareunion.com
END:VEVENT
END:VCALENDAR