BEGIN:VCALENDAR
VERSION:2.0
PRODID:-//Site de la Fédération Réunionnaise du Tourisme - ECPv6.1.1//NONSGML v1.0//EN
CALSCALE:GREGORIAN
METHOD:PUBLISH
X-WR-CALNAME:Site de la Fédération Réunionnaise du Tourisme
X-ORIGINAL-URL:https://frt.re
X-WR-CALDESC:évènements pour Site de la Fédération Réunionnaise du Tourisme
REFRESH-INTERVAL;VALUE=DURATION:PT1H
X-Robots-Tag:noindex
X-PUBLISHED-TTL:PT1H
BEGIN:VTIMEZONE
TZID:Europe/Paris
BEGIN:DAYLIGHT
TZOFFSETFROM:+0100
TZOFFSETTO:+0200
TZNAME:CEST
DTSTART:20220327T010000
END:DAYLIGHT
BEGIN:STANDARD
TZOFFSETFROM:+0200
TZOFFSETTO:+0100
TZNAME:CET
DTSTART:20221030T010000
END:STANDARD
END:VTIMEZONE
BEGIN:VEVENT
DTSTART;TZID=Europe/Paris:20221209T090000
DTEND;TZID=Europe/Paris:20221209T160000
DTSTAMP:20260421T151710
CREATED:20221208T074739Z
LAST-MODIFIED:20221208T074748Z
UID:10001499-1670576400-1670601600@frt.re
SUMMARY:Marché artisanal au Grand Marché
DESCRIPTION:Marché artisanal au Grand marché\n Dans le cadre des fêtes de fin d’année et des escales de deux paquebots en ce mois de décembre\, les artisans vous proposent de faire le plein d’idées cadeau lors d’un marché artisanal qui se tiendra au Grand Marché : \n vendredi 9 décembre de 9h à 16h avec ambiance musicale sur le parvis assurée par le groupe de séga Tapok et un groupe de maloya. \n mercredi 14 décembre de 9h à 16h – ambiance percussion et orchestre en cuivre. \nLes touristes\, les Portois et le grand public y trouveront plusieurs stands consacrés aux produits du terroir\, bijoux et souvenirs entre autres. Rappelons que ce marché artisanal fait partie d’un circuit au Port\, proposé aux croisiéristes dans le cadre d’un partenariat entre la ville du Port\, la Fédération Réunionnaise de Tourisme (FRT) et l’Office de Tourisme de l’Ouest. Il participe à la dynamisation du centre-ville du Port. Ce vendredi\, c’est le MSC Sinfonia qui accostera au Port avec près de 2 500 passagers.
URL:https://frt.re/evenement/marche-artisanal-au-grand-marche/
LOCATION:Grand Marché Le Port\, 36 Rue François de Mahy\, Le Port\, 97420\, Réunion
CATEGORIES:Public
ATTACH;FMTTYPE=image/jpeg:https://frt.re/wp-content/uploads/2022/12/arti-le-port.jpg
END:VEVENT
BEGIN:VEVENT
DTSTART;TZID=Europe/Paris:20221214T090000
DTEND;TZID=Europe/Paris:20221214T160000
DTSTAMP:20260421T151710
CREATED:20221208T080431Z
LAST-MODIFIED:20221208T080437Z
UID:10001498-1671008400-1671033600@frt.re
SUMMARY:Marché Artisanal au Grand Marché
DESCRIPTION:Marché artisanal au Grand marché\n Dans le cadre des fêtes de fin d’année et des escales de deux paquebots en ce mois de décembre\, les artisans vous proposent de faire le plein d’idées cadeau lors d’un marché artisanal qui se tiendra au Grand Marché : \n vendredi 9 décembre de 9h à 16h avec ambiance musicale sur le parvis assurée par le groupe de séga Tapok et un groupe de maloya. \n mercredi 14 décembre de 9h à 16h – ambiance percussion et orchestre en cuivre. \nLes touristes\, les Portois et le grand public y trouveront plusieurs stands consacrés aux produits du terroir\, bijoux et souvenirs entre autres. Rappelons que ce marché artisanal fait partie d’un circuit au Port\, proposé aux croisiéristes dans le cadre d’un partenariat entre la ville du Port\, la Fédération Réunionnaise de Tourisme (FRT) et l’Office de Tourisme de l’Ouest. Il participe à la dynamisation du centre-ville du Port. Ce vendredi\, c’est le MSC Sinfonia qui accostera au Port avec près de 2 500 passagers.
URL:https://frt.re/evenement/marche-artisanal-au-grand-marche-2/
LOCATION:Grand Marché Le Port\, 36 Rue François de Mahy\, Le Port\, 97420\, Réunion
CATEGORIES:Public
ATTACH;FMTTYPE=image/jpeg:https://frt.re/wp-content/uploads/2022/12/arti-le-port-1.jpg
END:VEVENT
END:VCALENDAR