BEGIN:VCALENDAR
VERSION:2.0
PRODID:-//Site de la Fédération Réunionnaise du Tourisme - ECPv6.1.1//NONSGML v1.0//EN
CALSCALE:GREGORIAN
METHOD:PUBLISH
X-WR-CALNAME:Site de la Fédération Réunionnaise du Tourisme
X-ORIGINAL-URL:https://frt.re
X-WR-CALDESC:évènements pour Site de la Fédération Réunionnaise du Tourisme
REFRESH-INTERVAL;VALUE=DURATION:PT1H
X-Robots-Tag:noindex
X-PUBLISHED-TTL:PT1H
BEGIN:VTIMEZONE
TZID:Europe/Paris
BEGIN:DAYLIGHT
TZOFFSETFROM:+0100
TZOFFSETTO:+0200
TZNAME:CEST
DTSTART:20240331T010000
END:DAYLIGHT
BEGIN:STANDARD
TZOFFSETFROM:+0200
TZOFFSETTO:+0100
TZNAME:CET
DTSTART:20241027T010000
END:STANDARD
END:VTIMEZONE
BEGIN:VEVENT
DTSTART;TZID=Europe/Paris:20240619T080000
DTEND;TZID=Europe/Paris:20240619T120000
DTSTAMP:20260420T134152
CREATED:20240531T081345Z
LAST-MODIFIED:20240531T081354Z
UID:10002271-1718784000-1718798400@frt.re
SUMMARY:Les Séniors Arts
DESCRIPTION:La Ville de Saint-Paul invite ses séniors pour la 3ème édition « Les Séniors Arts » le mercredi 19 juin de 08h à 12h ! \n\n\nCette action invite les séniors du territoire à venir s’exprimer et interagir à travers l’art thérapie autour d’une matinée sur le thème des mémoires créoles ! \n\n\nEnsanm alon lutte contre l’isolement de nos gramounes ! \n\n\nINFOS & RÉSERVATIONS\n 40 places disponibles\n inscription obligatoire au 0262 45 76 55 ou au 0692 77 74 60
URL:https://frt.re/evenement/les-seniors-arts/
LOCATION:Hôtel Le Récif\, 50 avenue de Bourbon\, Saint-Gilles-les-Bains\, 97434\, Réunion
CATEGORIES:Public
ATTACH;FMTTYPE=image/jpeg:https://frt.re/wp-content/uploads/2024/05/445782875_840874254738538_8087851109200124211_n.jpg
END:VEVENT
END:VCALENDAR