BEGIN:VCALENDAR
VERSION:2.0
PRODID:-//Site de la Fédération Réunionnaise du Tourisme - ECPv6.1.1//NONSGML v1.0//EN
CALSCALE:GREGORIAN
METHOD:PUBLISH
X-WR-CALNAME:Site de la Fédération Réunionnaise du Tourisme
X-ORIGINAL-URL:https://frt.re
X-WR-CALDESC:évènements pour Site de la Fédération Réunionnaise du Tourisme
REFRESH-INTERVAL;VALUE=DURATION:PT1H
X-Robots-Tag:noindex
X-PUBLISHED-TTL:PT1H
BEGIN:VTIMEZONE
TZID:Europe/Paris
BEGIN:DAYLIGHT
TZOFFSETFROM:+0100
TZOFFSETTO:+0200
TZNAME:CEST
DTSTART:20240331T010000
END:DAYLIGHT
BEGIN:STANDARD
TZOFFSETFROM:+0200
TZOFFSETTO:+0100
TZNAME:CET
DTSTART:20241027T010000
END:STANDARD
TZID:Indian/Reunion
BEGIN:STANDARD
TZOFFSETFROM:+0400
TZOFFSETTO:+0400
TZNAME:+04
DTSTART:20240101T000000
END:STANDARD
END:VTIMEZONE
BEGIN:VEVENT
DTSTART;VALUE=DATE:20240517
DTEND;VALUE=DATE:20240601
DTSTAMP:20260424T231909
CREATED:20240131T010833Z
LAST-MODIFIED:20240410T013707Z
UID:10002104-1715904000-1717199999@frt.re
SUMMARY:Festival du film d'aventure 2024
DESCRIPTION:20ème FESTIVAL DU FILM D’AVENTURE DE LA RÉUNION \n\n\nPour célébrer les 20 ans du Festival\, rejoignez-nous le samedi 18 Mai sur la plage du Cap Homard\, de 9h à minuit\, pour encore plus de jeux\, de conférences et d’ateliers sur le thème du voyage et de l’aventure en journée\, et notre fameuse soirée de projection de films sur écran géant le soir. Les pieds dans le sable\, la tête dans les étoiles. Cette journée est ouverte à toustes et gratuite ! \n\n\nVenez ensuite découvrir notre sélection des meilleurs films d’aventure\, en compétition dans le sud et le nord de l’île. Avec des invités de tous les horizons\, polonais\, palestiniens\, américains\, belge\, italien et français\, nous partirons à vélo à travers l’Europe et les Amériques\, plonger sous la glace en Norvège\, grimper en Palestine et en Sardaigne\, avant de décoller des Himalayas en parapente \n\n\nLa billetterie est ouverte !\nau Theatre Luc Donat : https://www.monticket.re/cinema/detail/7699\nà Léspas Culturel Leconte de Lisle :\nhttps://www.monticket.re/musique/detail/7681\nau TEAT Champ Fleuri | TEAT Plein Air :\nhttps://www.teat.re/\n\n\nFeuilletez le programme sur notre tout nouveau tout beau site : www.auboutdureve.fr\, conçu par notre graphiste préférée Inanna et financé par le Cap Numérik de la Région Réunion \n\n\nCette année c’est Aurus Music (The Well) qui nous accompagne pour la 20ème bande annonce du festival
URL:https://frt.re/evenement/festival-du-film-daventure-2024/
LOCATION:Ile de La Réunion\, Réunion
CATEGORIES:Public
ATTACH;FMTTYPE=image/jpeg:https://frt.re/wp-content/uploads/2024/01/436450944_441867565167881_7440250899374533371_n.jpg
ORGANIZER;CN="Festival%20du%20film%20d%27aventure%20de%20La%20R%C3%A9union":MAILTO:nat.verlinden@gmail.com
END:VEVENT
BEGIN:VEVENT
DTSTART;VALUE=DATE:20240601
DTEND;VALUE=DATE:20240612
DTSTAMP:20260424T231909
CREATED:20240601T044832Z
LAST-MODIFIED:20240601T044836Z
UID:10002278-1717200000-1718150399@frt.re
SUMMARY:Jeux Olympiques et Paralympiques 
DESCRIPTION:Jeux Olympiques et Paralympiques\n\n\n Retrouvez le programme de la Semaine réunionnaise des Jeux Olympiques et Paralympiques du 1er au 11 Juin 2024. Profitez des animations et initiations proposées dans différentes disciplines. Cette semaine sera clôturée par le Relais de la Flamme olympique à La Réunion le 12 juin 2024.\n\n\n Consultez le programme ici : https://www.departement974.fr/actualite/semaine-reunionnaise-des-jeux-olympiques-paralympiques-programme-2024
URL:https://frt.re/evenement/jeux-olympiques-et-paralympiques/
LOCATION:Ile de La Réunion\, Réunion
CATEGORIES:Public
ATTACH;FMTTYPE=image/jpeg:https://frt.re/wp-content/uploads/2024/06/15949882441498581314.jpg
END:VEVENT
BEGIN:VEVENT
DTSTART;VALUE=DATE:20240612
DTEND;VALUE=DATE:20240613
DTSTAMP:20260424T231909
CREATED:20240529T025240Z
LAST-MODIFIED:20240529T025244Z
UID:10002263-1718150400-1718236799@frt.re
SUMMARY:L'accueil de la Flamme Olympique
DESCRIPTION:L’accueil de la Flamme sera un moment unique et inédit pour La Réunion et marquera les mémoires. Célébrons ensemble le passage de la Flamme le 12 juin 2024 dans nos communes et soutenons nos relayeurs « péi » qui\, au travers de leurs efforts\, transmettront des valeurs de dépassement de soi\, de fraternité\, d’humilité et de respect. \nLe mercredi 12 juin 2024\, la Flamme Olympique traversera 8 communes : \n\nLe Tampon\nSaint-Benoît\nSaint-Denis\nSaint-Joseph\nSaint-Paul\nSaint-Pierre\nSainte-Rose\nSainte-Suzanne\n\nL’arrivée de la Flamme s”effectuera au Jardin de l’État\, avec l’allumage du chaudron. \nToutes les infos sur le parcours ici 👇 \nhttps://www.departement974.fr/actualite/12-juin-2024-lesprit-olympique-soufflera-sur-reunion-departement-devoile-parcours-relais \n 
URL:https://frt.re/evenement/laccueil-de-la-flamme-olympique/
LOCATION:Ile de La Réunion\, Réunion
CATEGORIES:Public
ATTACH;FMTTYPE=image/jpeg:https://frt.re/wp-content/uploads/2024/05/carte-generale-parcours-flamme-olympique_0-1.jpg
END:VEVENT
BEGIN:VEVENT
DTSTART;VALUE=DATE:20240726
DTEND;VALUE=DATE:20240729
DTSTAMP:20260424T231909
CREATED:20240726T122327Z
LAST-MODIFIED:20240726T122335Z
UID:10002612-1721952000-1722211199@frt.re
SUMMARY:55e Tour Auto Rallye de La Réunion
DESCRIPTION:𝟱𝟱è 𝗧𝗼𝘂𝗿 𝗔𝘂𝘁𝗼 𝗥𝗮𝗹𝗹𝘆𝗲 𝗱𝗲 𝗹𝗮 𝗥é𝘂𝗻𝗶𝗼𝗻 𝗕𝗠𝗪-𝗔𝗗𝗔-𝗥é𝗴𝗶𝗼𝗻 𝗥é𝘂𝗻𝗶𝗼𝗻 \n 𝟮𝟲/𝟮𝟳/𝟮𝟴 𝗷𝘂𝗶𝗹𝗹𝗲𝘁 𝟮𝟬𝟮𝟰\nRetrouvez le programme\, la carte des spéciales ainsi que les horaires de fermeture des routes.\nNous adressons toutes nos excuses aux riverains des zones traversées\, pour la gêne occasionnée par une circulation perturbée ou provisoirement non autorisée dans certains secteurs (épreuves spéciales).\nLes organisateurs\, les officiels\, les équipages\, leurs assistants vous souhaitent un Excellent week-end sportif à tous.
URL:https://frt.re/evenement/55e-tour-auto-rallye-de-la-reunion/
LOCATION:Ile de La Réunion\, Réunion
CATEGORIES:Public
ATTACH;FMTTYPE=image/jpeg:https://frt.re/wp-content/uploads/2024/07/448642007_858337512986674_3406953012059630637_n.jpg
ORGANIZER;CN="ASA%20R%C3%A9union":MAILTO:asareunion@orange.fr
END:VEVENT
BEGIN:VEVENT
DTSTART;VALUE=DATE:20240815
DTEND;VALUE=DATE:20240826
DTSTAMP:20260424T231909
CREATED:20240730T052542Z
LAST-MODIFIED:20240820T053416Z
UID:10002616-1723680000-1724630399@frt.re
SUMMARY:OPUS POCUS Festival
DESCRIPTION:OPUS POCUS \n\n\nL’OPUS POCUS Festival revient pour sa 12ème édition ! Retrouve les meilleurs artistes sélectionnés pour ce festival rythmé au son des trompettes et des saxophones. \n\n\nPrends tes billets ici : https://bit.ly/3VPMQYn\n\n\n Muzik Lé La\n Pour vous faire vibrer au son des talents locaux
URL:https://frt.re/evenement/opus-pocus-festival/
LOCATION:Ile de La Réunion\, Réunion
CATEGORIES:Public
ATTACH;FMTTYPE=image/jpeg:https://frt.re/wp-content/uploads/2024/07/0341516001718622076.jpg
END:VEVENT
BEGIN:VEVENT
DTSTART;VALUE=DATE:20240920
DTEND;VALUE=DATE:20240923
DTSTAMP:20260424T231909
CREATED:20240820T063950Z
LAST-MODIFIED:20240820T063954Z
UID:10002636-1726790400-1727049599@frt.re
SUMMARY:Les Journées Européennes du Patrimoine 2024
DESCRIPTION:Pour sa 41e édition\, les Journées européennes du patrimoine seront organisées les vendredi 20\, samedi 21 et dimanche 22 septembre 2024 et auront pour thèmes « le patrimoine des itinéraires\, des réseaux et des connexions et le patrimoine maritime ». Ces journées offrent l’opportunité de visiter des monuments et des sites\, souvent exceptionnellement ouverts. \nChaque année\, des visites libres\, visites commentées\, visites guidées\, spectacles ou expositions sont organisés dans les lieux culturels de La Réunion à l’occasion des journées du patrimoine. Durant un week-end\, redécouvrez gratuitement les monuments emblématiques de votre département : musées\, châteaux\, églises ou chapelles. Les journées du Patrimoine sont aussi l’occasion de réaliser des activités ludiques en famille comme des ateliers enfants\, des visites en famille ou des escapes games. \nRetrouvez bientôt tout le programme des Journées Européennes Du Patrimoine sur les sites des différents Offices de Tourisme de La Réunion 👇🏾\nOffice de Tourisme Intercommunal de l’Ouest de La Réunion \nOffices de Tourisme du Sud de La Réunion \nOffice de Tourisme Intercommunal de l’Est de La Réunion \nOffice de Tourisme Intercommunal du Nord de La Réunion
URL:https://frt.re/evenement/les-journees-europeennes-du-patrimoine-2024/
LOCATION:Ile de La Réunion\, Réunion
CATEGORIES:Public
ATTACH;FMTTYPE=image/jpeg:https://frt.re/wp-content/uploads/2024/08/JEP24_AFFICHE_210x297mm_RVB.jpg
END:VEVENT
BEGIN:VEVENT
DTSTART;VALUE=DATE:20241001
DTEND;VALUE=DATE:20241021
DTSTAMP:20260424T231909
CREATED:20241011T081038Z
LAST-MODIFIED:20241011T081045Z
UID:10002695-1727740800-1729468799@frt.re
SUMMARY:Réunion Graffiti
DESCRIPTION:Le festival Réunion Graffiti est de retour pour sa 6ème édition du 1er au 20 octobre ! \n\n\nRetrouvez tout le programme sur notre site internet : https://reuniongraffiti.re/ \n\n\nRejoignez-nous pour les temps-forts de ces prochains jours :\n Du lundi 7 au mercredi 16 octobre : réalisation de fresques et de façades à Saint-André\, Centre-ville d’Avenir\, Ville de Saint-André Réunion\n le vendredi 11 octobre : Projection de film au Château Morange sur l’artiste Gérard Zlotykamien\n le vendredi 11 octobre : SOIRÉE RÉUNION GRAFFITI : MIX DJ > CEET\, DJ ZACK\, STERB au HONEY NIGHT LIFE\n le samedi 12 octobre : Jam Graffiti à Saint-André\, Centre-ville d’Avenir\, Ville de Saint-André Réunion\n\n\nDes événements gratuits conçus pour toutes et tous \n\n\nNous vous attendons nombreux
URL:https://frt.re/evenement/reunion-graffiti/
LOCATION:Ile de La Réunion\, Réunion
CATEGORIES:Public
ATTACH;FMTTYPE=image/jpeg:https://frt.re/wp-content/uploads/2024/10/461811170_1135178935004680_499305784448719368_n.jpg
END:VEVENT
BEGIN:VEVENT
DTSTART;VALUE=DATE:20241004
DTEND;VALUE=DATE:20241015
DTSTAMP:20260424T231909
CREATED:20240903T062619Z
LAST-MODIFIED:20240903T062624Z
UID:10002659-1728000000-1728950399@frt.re
SUMMARY:La Fête de la Science
DESCRIPTION:Plongez dans l’Océan de Savoirs ! \n\n\nDu 4 au 14 octobre 2024\, La Réunion vous invite à embarquer pour une nouvelle édition de la Fête de la Science sous le thème inspirant de l’Océan de Savoirs. Cette année\, à l’occasion de l’Année de la Mer\, venez explorer les profondeurs de la connaissance à travers des activités qui sauront éveiller votre curiosité et enrichir vos connaissances.\n\n\nRendez-vous pour une croisière scientifique inoubliable où une marée d’activité vous attendent aux 4 coins de l’île !\nDes villages de science mais également des ateliers\, conférences et visites guidées dans le vaste océan des sciences.\n\n\n Village inaugural “Océan de savoirs” au Jardin de l’Etat : les 4 et 5 octobre\n Observatoire des Makes : le 5 octobre.\n Campus universitaires : le 8 octobre au campus du Tampon\, le 10 octobre au campus de Saint-Pierre\, le 11 octobre au campus du Moufia.\n Cité du Volcan : du 4 au 14 octobre.\n Musée Stella Matutina : le 10 octobre\n\n\nActivités sur réservation\, consulter le programme complet sur www.fetedelascience.fr\nRestez connectés !
URL:https://frt.re/evenement/la-fete-de-la-science/
LOCATION:Ile de La Réunion\, Réunion
CATEGORIES:Public
ATTACH;FMTTYPE=image/jpeg:https://frt.re/wp-content/uploads/2024/09/457878557_528782466320874_8575730643683935129_n.jpg
ORGANIZER;CN="F%C3%AAte%20de%20la%20science%20974":MAILTO:fdls.974@sciences-reunion.net
END:VEVENT
BEGIN:VEVENT
DTSTART;VALUE=DATE:20241012
DTEND;VALUE=DATE:20241028
DTSTAMP:20260424T231909
CREATED:20241011T072804Z
LAST-MODIFIED:20241011T072808Z
UID:10002689-1728691200-1730073599@frt.re
SUMMARY:Rendez-Vous NatureS
DESCRIPTION:A vos agendas ! Du 12 au 27 octobre\, le @departement974 vous invite à célébrer 𝐥𝐞𝐬 𝟐𝟎 𝐚𝐧𝐬 𝐝𝐞𝐬 𝐑𝐞𝐧𝐝𝐞𝐳-𝐕𝐨𝐮𝐬 𝐍𝐚𝐭𝐮𝐫𝐞𝐒 ! Une multitude 𝐝’𝐚𝐜𝐭𝐢𝐯𝐢𝐭𝐞́𝐬 𝐠𝐫𝐚𝐭𝐮𝐢𝐭𝐞𝐬 à découvrir dans les 4 coins de l’île afin de 𝐜𝐞́𝐥𝐞́𝐛𝐫𝐞𝐫 𝐥𝐚 𝐟𝐚𝐮𝐧𝐞 𝐫𝐞́𝐮𝐧𝐢𝐨𝐧𝐧𝐚𝐢𝐬𝐞\, de quoi ravir petits et grands pendant ces vacances ! Les agents de la Réserve Marine vous proposent ainsi de participer au 𝐬𝐞𝐧𝐭𝐢𝐞𝐫 𝐬𝐨𝐮𝐬-𝐦𝐚𝐫𝐢𝐧 𝐚̀ 𝐋’𝐇𝐞𝐫𝐦𝐢𝐭𝐚𝐠𝐞 (Prévoir palmes\, masque et tuba\, matériel obligatoire et non fourni). 𝐄𝐱𝐜𝐞𝐩𝐭𝐢𝐨𝐧𝐧𝐞𝐥𝐥𝐞𝐦𝐞𝐧𝐭\, la 𝐫𝐞́𝐬𝐞𝐫𝐯𝐚𝐭𝐢𝐨𝐧 𝐩𝐨𝐮𝐫 𝐧𝐨𝐭𝐫𝐞 𝐚𝐜𝐭𝐢𝐯𝐢𝐭𝐞́ 𝐬𝐞 𝐟𝐞𝐫𝐚 𝐬𝐮𝐫 𝐥𝐚 𝐩𝐥𝐚𝐭𝐞𝐟𝐨𝐫𝐦𝐞 𝐝𝐞𝐬 𝐑𝐞𝐧𝐝𝐞𝐳-𝐕𝐨𝐮𝐬 𝐍𝐚𝐭𝐮𝐫𝐞𝐒.\nRéservez vite au 𝟎𝟐𝟔𝟐 𝟗𝟕 𝟓𝟗 𝟓𝟗 ou par mail à rdvnature974@gmail.com\n 𝐀𝐧𝐢𝐦𝐚𝐭𝐢𝐨𝐧𝐬 𝐠𝐫𝐚𝐭𝐮𝐢𝐭𝐞𝐬 𝐞𝐭 𝐯𝐢𝐬𝐢𝐭𝐞𝐬 𝐠𝐮𝐢𝐝𝐞́𝐞𝐬 𝐬𝐮𝐫 𝐭𝐨𝐮𝐭𝐞 𝐥’𝐢̂𝐥𝐞 !\n Découvrez le programme complet ici \nhttps://evenements-natures.departement974.fr/
URL:https://frt.re/evenement/rendez-vous-natures/
LOCATION:Ile de La Réunion\, Réunion
CATEGORIES:Public
ATTACH;FMTTYPE=image/jpeg:https://frt.re/wp-content/uploads/2024/10/462304468_948690283967361_3515776643146489295_n.jpg
END:VEVENT
BEGIN:VEVENT
DTSTART;VALUE=DATE:20241017
DTEND;VALUE=DATE:20241021
DTSTAMP:20260424T231909
CREATED:20241015T054543Z
LAST-MODIFIED:20241015T054548Z
UID:10002722-1729123200-1729468799@frt.re
SUMMARY:Grand Raid 2024
DESCRIPTION:Vibrez au rythme du plus grand événement sportif de l’île de la Réunion !
URL:https://frt.re/evenement/grand-raid-2024/
LOCATION:Ile de La Réunion\, Réunion
CATEGORIES:Public
ATTACH;FMTTYPE=image/jpeg:https://frt.re/wp-content/uploads/2024/10/433950899_860412942558493_3731928389821754821_n.jpg
ORGANIZER;CN="Association%20Grand%20Raid%20R%C3%A9union":MAILTO:info@grandraid-reunion.com
END:VEVENT
BEGIN:VEVENT
DTSTART;VALUE=DATE:20241115
DTEND;VALUE=DATE:20241125
DTSTAMP:20260424T231909
CREATED:20241015T040818Z
LAST-MODIFIED:20241015T040824Z
UID:10002714-1731628800-1732492799@frt.re
SUMMARY:Blues Maron Festival
DESCRIPTION: DE RETOUR !\nLe Blues Maron Festival est de retour\, pour une seconde édition de folie. \nLa rencontre entre artistes locaux et internationaux se fera aux 4 coins de l’île\, du 15 au 24 novembre 2024 !\n Prends-tes billets ici : https://www.monticket.re/blues-maron-festival\nKosa ou atten’ ? \nVoir moins
URL:https://frt.re/evenement/blues-maron-festival-2/
LOCATION:Ile de La Réunion\, Réunion
CATEGORIES:Public
ATTACH;FMTTYPE=image/jpeg:https://frt.re/wp-content/uploads/2024/10/457851864_6609157225495_7323167228589756311_n.jpg
ORGANIZER;CN="Association%20Blues%20Maron":MAILTO:blues.maron@gmail.com
END:VEVENT
BEGIN:VEVENT
DTSTART;VALUE=DATE:20250217
DTEND;VALUE=DATE:20250224
DTSTAMP:20260424T231909
CREATED:20250118T035843Z
LAST-MODIFIED:20250118T035850Z
UID:10002881-1739750400-1740355199@frt.re
SUMMARY:Réunion Comedy Fest
DESCRIPTION:Retrouvez le Réunion Comedy Fest. 5ème édition ! du 17 au 23 février 2025\nPrès de 15 spectacles sur toute l’île\, durant cette semaine dédiée à l’Humour\ntoutes les infos sur monticket.re et teat.re\nwww.reunioncomedyfest.re
URL:https://frt.re/evenement/reunion-comedy-fest/
LOCATION:Ile de La Réunion\, Réunion
CATEGORIES:Public
ATTACH;FMTTYPE=image/jpeg:https://frt.re/wp-content/uploads/2025/01/461892920_1044914677427748_5640478828125004627_n.jpg
ORGANIZER;CN="R%C3%A9union%20Com%C3%A9die%20Fest":MAILTO:contact@reunioncomedyfest.re
END:VEVENT
BEGIN:VEVENT
DTSTART;VALUE=DATE:20250405
DTEND;VALUE=DATE:20250410
DTSTAMP:20260424T231909
CREATED:20250310T113656Z
LAST-MODIFIED:20250310T113703Z
UID:10002943-1743811200-1744243199@frt.re
SUMMARY:𝗙𝗲𝘀𝘁𝗶𝘃𝗮𝗹 𝗜𝗻𝘁𝗲𝗿𝗻𝗮𝘁𝗶𝗼𝗻𝗮𝗹 𝗱𝘂 𝗙𝗶𝗹𝗺 𝗱𝗲 𝗹’𝗢𝗰𝗲́𝗮𝗻 𝗜𝗻𝗱𝗶𝗲𝗻 (𝗙𝗜𝗙𝗢𝗜)
DESCRIPTION: 𝗟𝗲 𝗙𝗲𝘀𝘁𝗶𝘃𝗮𝗹 𝗜𝗻𝘁𝗲𝗿𝗻𝗮𝘁𝗶𝗼𝗻𝗮𝗹 𝗱𝘂 𝗙𝗶𝗹𝗺 𝗱𝗲 𝗹’𝗢𝗰𝗲́𝗮𝗻 𝗜𝗻𝗱𝗶𝗲𝗻 (𝗙𝗜𝗙𝗢𝗜) 𝗲𝘀𝘁 𝗱𝗲 𝗿𝗲𝘁𝗼𝘂𝗿 𝗽𝗼𝘂𝗿 𝘀𝗮 𝟮𝗲̀𝗺𝗲 𝗲́𝗱𝗶𝘁𝗶𝗼𝗻 𝗱𝘂 𝟱 𝗮𝘂 𝟵 𝗮𝘃𝗿𝗶𝗹 𝟮𝟬𝟮𝟱Créé à l’initiative de France Télévisions\, avec les soutiens de la Région Réunion et de la Ville de Saint-Paul et porté par l’association Hors Champs Réunion\, le FIFOI vous invite à (re)découvrir la richesse des créations cinématographiques de l’Océan Indien. Au programme : 𝗗𝗲𝘀 𝗽𝗿𝗼𝗷𝗲𝗰𝘁𝗶𝗼𝗻𝘀 𝗱𝗲 𝗰𝗼𝘂𝗿𝘁𝘀 𝗲𝘁 𝗹𝗼𝗻𝗴𝘀 𝗺𝗲́𝘁𝗿𝗮𝗴𝗲𝘀 𝗗𝗲𝘀 𝗰𝗼𝗺𝗽𝗲́𝘁𝗶𝘁𝗶𝗼𝗻𝘀 𝗗𝗲𝘀 𝗿𝗲𝗻𝗰𝗼𝗻𝘁𝗿𝗲𝘀 𝗽𝗿𝗼𝗳𝗲𝘀𝘀𝗶𝗼𝗻𝗻𝗲𝗹𝗹𝗲𝘀 𝗗𝗲𝘀 𝘀𝗲𝘀𝘀𝗶𝗼𝗻𝘀 𝗱𝗲 𝗽𝗶𝘁𝗰𝗵𝘀 \n\n Vous souhaitez assister à la cérémonie d’ouverture et de clôture du FIFOIInscrivez-vous dès maintenant à ces évènements via ce lien : https://forms.gle/QLMA2rZw1Sx3UvHc7 ( entrée libre et gratuite sous réserve des places disponibles) \n\n\nAu programme :\n\n\n 𝗖𝗲́𝗿𝗲́𝗺𝗼𝗻𝗶𝗲 𝗱’𝗼𝘂𝘃𝗲𝗿𝘁𝘂𝗿𝗲 𝗹𝗲 𝘀𝗮𝗺𝗲𝗱𝗶 𝟱 𝗮𝘃𝗿𝗶𝗹 𝗮𝘂 Musée Stella Matutina 𝗱𝗲 𝗹𝗮 Ville de Saint-Leu 𝗮̀ 𝗽𝗮𝗿𝘁𝗶𝗿 𝗱𝗲 𝟭𝟴𝗵 𝟯𝟬 :\n\n\n Projection de 𝘗𝘪𝘦 𝘥𝘢𝘯 𝘭𝘰 de Kim Yip Tong\, court métrage documentaire d’animation produit par Gao Shan Pictures et We Film.\n\n\n Projection de 𝘚𝘪𝘮𝘪𝘯 𝘡𝘦𝘵𝘸𝘢𝘭 de David Constantin\, long métrage de fiction produit par Caméléon Production et Lithops Films\, en présence du réalisateur.\n\n\n 𝗖𝗲́𝗿𝗲́𝗺𝗼𝗻𝗶𝗲 𝗱𝗲 𝗰𝗹𝗼̂𝘁𝘂𝗿𝗲 𝗲𝘁 𝗿𝗲𝗺𝗶𝘀𝗲 𝗱𝗲𝘀 𝗽𝗿𝗶𝘅 𝗹𝗲 𝗺𝗲𝗿𝗰𝗿𝗲𝗱𝗶 𝟵 𝗮𝘃𝗿𝗶𝗹 𝗮𝘂 𝗠𝘂𝘀𝗲́𝗲 𝗦𝘁𝗲𝗹𝗹𝗮 𝗠𝗮𝘁𝘂𝘁𝗶𝗻𝗮 𝗱𝗲 𝗹𝗮 𝗩𝗶𝗹𝗹𝗲 𝗱𝗲 𝗦𝗮𝗶𝗻𝘁-𝗟𝗲𝘂 𝗮̀ 𝗽𝗮𝗿𝘁𝗶𝗿 𝗱𝗲 𝟭𝟴𝗵 𝟯𝟬 :\n\n\n Projection de 𝘋𝘪𝘴𝘤𝘰 𝘈𝘧𝘳𝘪𝘬𝘢\, 𝘶𝘯𝘦 𝘩𝘪𝘴𝘵𝘰𝘪𝘳𝘦 𝘮𝘢𝘭𝘨𝘢𝘤𝘩𝘦 de Luck Razanajaona\, long métrage de fiction produit par We Film\, en présence du réalisateur.\n\n\nRéservez vos places maintenant\n\nAu plaisir de vous accueillir dans 2 mois lors de ce bel événement
URL:https://frt.re/evenement/%f0%9d%97%99%f0%9d%97%b2%f0%9d%98%80%f0%9d%98%81%f0%9d%97%b6%f0%9d%98%83%f0%9d%97%ae%f0%9d%97%b9-%f0%9d%97%9c%f0%9d%97%bb%f0%9d%98%81%f0%9d%97%b2%f0%9d%97%bf%f0%9d%97%bb%f0%9d%97%ae%f0%9d%98%81/
LOCATION:Ile de La Réunion\, Réunion
CATEGORIES:Public
ATTACH;FMTTYPE=image/jpeg:https://frt.re/wp-content/uploads/2025/03/482216099_122210479970200126_5256984548835590240_n.jpg
END:VEVENT
BEGIN:VEVENT
DTSTART;VALUE=DATE:20250411
DTEND;VALUE=DATE:20250508
DTSTAMP:20260424T231909
CREATED:20250205T085715Z
LAST-MODIFIED:20250205T085729Z
UID:10002899-1744329600-1746662399@frt.re
SUMMARY:Nuits sans lumière 2025
DESCRIPTION:Nuits sans lumière 2025 : du 11 avril au 7 mai\, éteignons nos éclairages !\n\n\n La période d’envol – et donc malheureusement d’échouage – des jeunes Pétrels de Barau approche à grands pas ! Cette année\, les phases de la lune par rapport au pic d’envol laissent présager que 950 à 1300 Pétrels devraient être retrouvés échoués.\n\n\n En cas de non-extinction d’un maximum d’éclairages et de mauvaise météo\, ce chiffre pourrait cependant être largement dépassé – comme ce fut le cas l’an dernier avec 1351 Petrels échoués au lieu des 830 attendus.\n\n\n Afin de réduire ce risque\, la SEOR invite donc tous les gestionnaires d’éclairages publics\, privés et sportifs\, ainsi que toute la population réunionnaise\, à intensifier leurs efforts de réduction et d’extinction des lumières du 11 avril au 7 mai.\n\n\n Plus d’information dans notre communiqué : bit.ly/NuitsSansLumiere2025\n\n\nMerci de partager au maximum autour de vous !
URL:https://frt.re/evenement/nuits-sans-lumiere-2025/
LOCATION:Ile de La Réunion\, Réunion
CATEGORIES:Public
ATTACH;FMTTYPE=image/jpeg:https://frt.re/wp-content/uploads/2025/02/476006771_1178047703938154_3913979655462786252_n-1.jpg
ORGANIZER;CN="SEOR":MAILTO:contact@seor.fr
END:VEVENT
BEGIN:VEVENT
DTSTART;VALUE=DATE:20250419
DTEND;VALUE=DATE:20250427
DTSTAMP:20260424T231909
CREATED:20250312T052021Z
LAST-MODIFIED:20250312T052025Z
UID:10002948-1745020800-1745711999@frt.re
SUMMARY:Je lis un livre péï
DESCRIPTION:L’association La Réunion des Livres lance la 9e édition de l’opération “Je lis un livre péi !” du 19 au 26 avril 2025.\nDe nombreuses structures participent à l’événement : librairies\, enseignes culturelles\, médiathèques\, bibliothèques\, cinémas\, commerces et salles de spectacle. Aux quatre coins de l’île\, le public pourra profiter de rencontres-dédicaces\, lectures\, conférences-débats\, contes\, ateliers de loisirs créatifs\, animations musicales\, dégustations de thé et gâteaux péi\, ateliers cuisine marmailles\, ateliers d’écriture\, BD concert\, pique-nique musical\, spectacle théâtral\, troc de livres\, studio photos selfies livres péi…\nLa semaine du 19 au 26 avril 2025\, avec la Journée mondiale du livre et du droit d’auteur le 23 avril 2025\, est retenue pour la promotion de la création littéraire et de l’édition réunionnaise\, portée par l’association La Réunion des Livres avec le soutien de la direction des affaires culturelles de La Réunion (DAC de La Réunion) \, de la région Réunion et du département de La Réunion.\nToutes les informations sur le site de La Réunion des Livres :https://www.la-reunion-des-livres.re/…/je-lis-un-livre…/
URL:https://frt.re/evenement/je-lis-un-livre-pei-3/
LOCATION:Ile de La Réunion\, Réunion
CATEGORIES:Public
ATTACH;FMTTYPE=image/jpeg:https://frt.re/wp-content/uploads/2025/03/481814688_1102658745230454_6693248678894740683_n.jpg
ORGANIZER;CN="La%20R%C3%A9union%20des%20Livres":MAILTO:contact3.lrdl@gmail.com
END:VEVENT
BEGIN:VEVENT
DTSTART;VALUE=DATE:20250517
DTEND;VALUE=DATE:20250531
DTSTAMP:20260424T231909
CREATED:20250213T050029Z
LAST-MODIFIED:20250213T050050Z
UID:10002911-1747440000-1748649599@frt.re
SUMMARY:Festival du film d'aventure
DESCRIPTION:Le festival est reparti pour sa 21eme édition ! Pour l’occasion\, nous vous dévoilons notre nouvelle affiche : une création inspirée de la majestueuse falaise de Cap Jaune\, capturée par l’objectif talentueux d’@Antoine Veillard photographe et rendue vivante par Sara Dane\, dessinatrice de Littoral\, qui a intégré cette grimpeuse marquée par l’aventure – symbole de persévérance et d’audace.  Merci à eux pour cette magnifique co-création \n\n\n Dates à noter : du 17 au 30 mai 2025\, avec des projections sur la plage du Cap Homard\, au Theatre Luc Donat\, à Léspas Culturel Leconte de Lisle et au TEAT Champ Fleuri. \n\n\n Réalisateurs\, aventuriers\, producteurs : si vous avez un film qui raconte un rêve devenu réalité\, une quête ou une aventure unique\, envoyez-le-nous avant le 31 janvier 2025. \, par ici : www.auboutdureve.fr\n\n\nMerci à tous ceux qui\, par leur talent et leur passion\, nous inspirent à aller au bout de nos rêves.
URL:https://frt.re/evenement/festival-du-film-daventure/
LOCATION:Ile de La Réunion\, Réunion
CATEGORIES:Public
ATTACH;FMTTYPE=image/jpeg:https://frt.re/wp-content/uploads/2025/02/464609019_573492688672034_8614309121714843209_n.jpg
ORGANIZER;CN="Festival%20du%20film%20d%27aventure%20de%20La%20R%C3%A9union":MAILTO:nat.verlinden@gmail.com
END:VEVENT
END:VCALENDAR