BEGIN:VCALENDAR
VERSION:2.0
PRODID:-//Site de la Fédération Réunionnaise du Tourisme - ECPv6.1.1//NONSGML v1.0//EN
CALSCALE:GREGORIAN
METHOD:PUBLISH
X-ORIGINAL-URL:https://frt.re
X-WR-CALDESC:évènements pour Site de la Fédération Réunionnaise du Tourisme
REFRESH-INTERVAL;VALUE=DURATION:PT1H
X-Robots-Tag:noindex
X-PUBLISHED-TTL:PT1H
BEGIN:VTIMEZONE
TZID:Europe/Paris
BEGIN:DAYLIGHT
TZOFFSETFROM:+0100
TZOFFSETTO:+0200
TZNAME:CEST
DTSTART:20230326T010000
END:DAYLIGHT
BEGIN:STANDARD
TZOFFSETFROM:+0200
TZOFFSETTO:+0100
TZNAME:CET
DTSTART:20231029T010000
END:STANDARD
TZID:Indian/Reunion
BEGIN:STANDARD
TZOFFSETFROM:+0400
TZOFFSETTO:+0400
TZNAME:+04
DTSTART:20240101T000000
END:STANDARD
END:VTIMEZONE
BEGIN:VEVENT
DTSTART;VALUE=DATE:20230417
DTEND;VALUE=DATE:20230422
DTSTAMP:20260424T232350
CREATED:20230404T045846Z
LAST-MODIFIED:20230404T045857Z
UID:10001439-1681689600-1682121599@frt.re
SUMMARY:Semaine de la Memwar
DESCRIPTION:// SEMAINE DE LA MEMWAR //\n> Exposition\, ateliers et spectacles\n> Du 17 au 21 avril 2023\nDu lundi 17 au vendredi 21 avril 2023\, remémorons-nous les Enfants dits de la Creuse.\nÀ travers des ateliers\, des spectacles et une exposition et en lien avec les artistes en résidence à la Cité des Arts\, cette semaine explorera des thèmes tels que le déracinement\, la privation et la quête identitaire. Une semaine riche et émouvante où la création artistique rencontrera le devoir de mémoire.\n Découvrez le programme des activités grand public ci-dessous\, ou au format PDF ici : http://bit.ly/42Mdu79\n Des actions sont également organisées pour les publics scolaires et associatifs\, plus d’informations à ce lien : http://bit.ly/3TTgkD9\n\n INFORMATIONS PRATIQUES\n• Pour acheter vos billets :\nhttps://www.citedesarts.re/Billetterie\n• Pour réserver vos places aux visites commentées de l’exposition “Piments Zoizos” : billetterie@citedesarts.re ou 02 62 92 09 90\n\n PROGRAMME GRAND PUBLIC DÉTAILLÉ\n LUNDI 17 AVRIL\n• De 12h à 18h\, en Salle de médiation culturelle (Accès libre\, gratuit) : Exposition “Piments Zoizos” de Téhem\nExposition de vingt planches issues de la BD “Piments Zoizos”\, qui\, à travers l’histoire de Jean\, permet de retracer l’histoire des Enfants dits de la Creuse.\n MARDI 18 AVRIL\n• De 12h à 18h\, en Salle de médiation culturelle (Accès libre\, gratuit) : Exposition “Piments Zoizos” de Téhem\n• De 19h à 20h\, en Boîte noire (Payant) : Projet issu de la résidence de territoire “Nos Racines” du Collectif V.1\nUne création partagée entre des jeunes de la PJJ de St-Denis et des aînés dits de la Creuse autour d’une réflexion partagée sur la question des lieux qui traversent nos vies et qui constituent l’identité de la personne que l’on est.\n MERCREDI 19 AVRIL\n• De 10h à 11h et de 11h à 12h\, en Salle de médiation culturelle (Gratuit sur réservation) : Visite de l’exposition “Piments Zoizos” par Téhem\nVisite commentée de l’exposition avec l’auteur. Réservation auprès de l’accueil-billetterie.\n• De 12h à 18h\, en Salle de médiation culturelle (Accès libre\, gratuit) : Exposition “Piments Zoizos” de Téhem\n• De 19h à 20h\, en Boîte noire (Payant) : Conférence dessinée avec Sergio Grondin et Téhem\nUne collaboration inédite entre le conteur Sergio Grondin et le dessinateur de bande-dessinée Téhem autour de la lecture de “Domoun” dessinée et projetée en direct.\n JEUDI 20 AVRIL\n• De 10h à 18h\, en Salle de médiation culturelle (Accès libre\, gratuit) : Exposition “Piments Zoizos” de Téhem\n VENDREDI 21 AVRIL\n• De 10h à 23h\, en Salle de médiation culturelle (Accès libre\, gratuit) : Exposition “Piments Zoizos” de Téhem\n>>> Soirée transdisciplinaire <<<\n• De 18h à 21h\, au Banyan (Gratuit) : Vernissage de l’exposition “Ouvert uniquement les jours de festivités” de Soleïman Badat\nUne plongée dans l’univers pluriel et expérimental de l’artiste et sa vision du monde entre optimisme et désenchantement à travers le dessin\, la peinture\, la photographie\, la vidéo et la musique.\n• De 19h à 19h45\, sur le Parvis (Gratuit) : Showcase de Marie Lanfroy et Jonathan Itéma\nDans une musique actuelle engagée\, Marie Lanfroy et Jonathan Itéma (leaders de Saodaj) allient poésie des langues créole et française\, percussions traditionnelles du maloya et instruments classiques.\n• De 20h à 21h\, au Fanal (Payant) : Spectacle “Tous nos ciels” du Collectif V.1\nEntre fiction et réalité\, “Tous nos ciels” s’inspire de l’affaire des enfants de la Creuse en interrogeant le destin de Valérie Andanson\, âgée de trois ans lorsqu’en 1966\, elle est transférée avec ses cinq frères et sœurs de la Réunion à la Creuse.
URL:https://frt.re/evenement/semaine-de-la-memwar/
LOCATION:La Cité des Arts\, 23 rue Léopold Rambaud\, Saint-Denis\, 97490\, Réunion
CATEGORIES:Public
ATTACH;FMTTYPE=image/jpeg:https://frt.re/wp-content/uploads/2023/04/memwar.jpg
ORGANIZER;CN="La%20Cit%C3%A9%20des%20Arts":MAILTO:contact@citedesarts.re
END:VEVENT
BEGIN:VEVENT
DTSTART;TZID=Europe/Paris:20230915T190000
DTEND;TZID=Europe/Paris:20230915T230000
DTSTAMP:20260424T232350
CREATED:20230824T063609Z
LAST-MODIFIED:20230824T063614Z
UID:10001842-1694804400-1694818800@frt.re
SUMMARY:La Nuit du Maloya
DESCRIPTION:// LA NUIT DU MALOYA //\n· Artistes : Ras Maron\, Dalon Maloya\, Maloyé\, Ban Makwalé\, Madiakanou\, René-Paul Elléliara\nLe maloya a fait son entrée au patrimoine immatériel de l’Unesco en 2009. Dans le cadre des Journées européennes du patrimoine\, l’association Ras Maron et la Cité des Arts ont le plaisir de vous offrir une belle 4ème édition de la Nuit du Maloya ! Les artistes à l’affiche vous donnent rendez-vous avec différents styles de ce genre musical aussi typique qu’emblématique de La Réunion. Avec Ras Maron ek gramoun Zan Pir Pon Nèv\, Dalon Maloya\, Maloyée\, Ban Makwalé\, Madiakanou et René-Paul Elléliara sur scène\, préparez vos meilleurs coups de reins ! Paré ? Pilé !\n INFORMATIONS PRATIQUES\n· Concert de maloya\n· Vendredi 15 septembre 2023 à 19h\n· Lieu : Palaxa\n· Tarifs : 8€ Adhérent / 10€ Réduit / 12€ Prévente / 15€ Sur place\n Pour acheter vos billets :\nhttps://www.citedesarts.re/Billetterie \nVoir moins
URL:https://frt.re/evenement/la-nuit-du-maloya/
LOCATION:La Cité des Arts\, 23 rue Léopold Rambaud\, Saint-Denis\, 97490\, Réunion
CATEGORIES:Public
ATTACH;FMTTYPE=image/jpeg:https://frt.re/wp-content/uploads/2023/08/366327283_677365841091332_5523317040995005242_n.jpg
ORGANIZER;CN="La%20Cit%C3%A9%20des%20Arts":MAILTO:contact@citedesarts.re
END:VEVENT
BEGIN:VEVENT
DTSTART;TZID=Europe/Paris:20231007T200000
DTEND;TZID=Europe/Paris:20231007T230000
DTSTAMP:20260424T232350
CREATED:20230920T042117Z
LAST-MODIFIED:20230920T042122Z
UID:10001908-1696708800-1696719600@frt.re
SUMMARY:Studiotic
DESCRIPTION:Le Studiotic est de retour à la Cité des Arts ! 💥\n🎸 Le rendez-vous est fixé sur la scène de l’emblématique Palaxa qui accueillera de nouveaux talents avec The Sorry Dead\, Kanasel\, Dust._band\, TABA et LohArano !\nC’est le samedi 7 octobre à 20h\, n’hésitez pas à marquer cette date dans votre agenda et ramenez vos amis pour une soirée riche en découvertes musicales. 🤩\n🎟 Pour acheter vos billets et pour plus d’informations sur les groupes : citedesarts.re
URL:https://frt.re/evenement/studiotic/
LOCATION:La Cité des Arts\, 23 rue Léopold Rambaud\, Saint-Denis\, 97490\, Réunion
CATEGORIES:Public
ATTACH;FMTTYPE=image/jpeg:https://frt.re/wp-content/uploads/2023/09/379691838_700197558808160_8539377383408575022_n.jpg
ORGANIZER;CN="La%20Cit%C3%A9%20des%20Arts":MAILTO:contact@citedesarts.re
END:VEVENT
BEGIN:VEVENT
DTSTART;TZID=Europe/Paris:20231014T100000
DTEND;TZID=Europe/Paris:20231014T210000
DTSTAMP:20260424T232350
CREATED:20230920T041903Z
LAST-MODIFIED:20230920T041910Z
UID:10001907-1697277600-1697317200@frt.re
SUMMARY:Otaku City Festival
DESCRIPTION:Vous aviez aimé Cité Geek en 2022 ? Vous allez adorer Otaku City Festival ! 🍙\nEh oui\, Cité Geek change de nom et se refait une beauté… Bienvenue à Otaku City !\n🎮 Que vous soyez passionnés de cosplay\, de danse K-Pop ou de jeux vidéo\, Otaku City est le rendez-vous à ne pas manquer !\nC’est le samedi 14 octobre 2023 de 10h à 21h.\nPlongez au cœur de vos univers préférés et préparez-vous pour une journée que vous n’oublierez pas de sitôt. 🤩\n🎟 Pour acheter vos billets : citedesarts.re\nLa Maison Otaku
URL:https://frt.re/evenement/otaku-city-festival/
LOCATION:La Cité des Arts\, 23 rue Léopold Rambaud\, Saint-Denis\, 97490\, Réunion
CATEGORIES:Public
ATTACH;FMTTYPE=image/jpeg:https://frt.re/wp-content/uploads/2023/09/377490156_23859119585230253_142898386904439219_n.jpg
ORGANIZER;CN="La%20Cit%C3%A9%20des%20Arts":MAILTO:contact@citedesarts.re
END:VEVENT
BEGIN:VEVENT
DTSTART;VALUE=DATE:20231117
DTEND;VALUE=DATE:20231119
DTSTAMP:20260424T232350
CREATED:20230920T043251Z
LAST-MODIFIED:20230920T043258Z
UID:10001910-1700179200-1700351999@frt.re
SUMMARY:Réunion Sonore Festival
DESCRIPTION:🎵 Réunion Sonore Festival – Ouverture de la Billetterie ! 🎵\nPROMO BIG EARLY\n🎫 Tarifs disponible 1 mois :\nPass 1 jour : 19€\nPass 2 jours : 35€\nTICKET :\nhttps://shotgun.live/…/reunion-sonore-festival-7-cite…\nNous sommes ravis de vous annoncer l’ouverture de la billetterie pour le Réunion Sonore Festival\, l’événement incontournable de l’année !\n📆 Date : 17 et 18 novembre\n📍 Lieu : La Cité des Arts / Saint DENIS\n🎟️ Les prix Big Early sont disponibles pour une durée limitée d’un mois seulement ! Ne manquez pas cette occasion unique de vous procurer vos précieux sésames à des tarifs exceptionnels.\nMais attention\, les places sont limitées et les demandes sont déjà très nombreuses ! Réservez dès maintenant pour vous assurer d’une expérience inoubliable.
URL:https://frt.re/evenement/reunion-sonore-festival/
LOCATION:La Cité des Arts\, 23 rue Léopold Rambaud\, Saint-Denis\, 97490\, Réunion
ATTACH;FMTTYPE=image/jpeg:https://frt.re/wp-content/uploads/2023/09/377578901_773183697940427_3237962046014582440_n.jpg
ORGANIZER;CN="La%20Cit%C3%A9%20des%20Arts":MAILTO:contact@citedesarts.re
END:VEVENT
BEGIN:VEVENT
DTSTART;TZID=Indian/Reunion:20241203T090000
DTEND;TZID=Indian/Reunion:20241203T213000
DTSTAMP:20260424T232350
CREATED:20241128T083914Z
LAST-MODIFIED:20241128T083921Z
UID:10002812-1733216400-1733261400@frt.re
SUMMARY:Sakinn son sans" – Journée Internationale des Personnes Porteuses de Handicap 2024
DESCRIPTION: Mardi 3 décembre 2024 Cité des Arts De 9h à 21h30Avec la participation de Zanmari Baré\, parrain de l’événementRejoignez-nous pour une journée riche en échanges\, en découvertes et en émotions\, dédiée à l’inclusion et à la lutte contre les préjugés et discriminations.𝐔𝐧 𝐩𝐫𝐨𝐠𝐫𝐚𝐦𝐦𝐞 𝐜𝐨𝐧𝐬𝐭𝐫𝐮𝐢𝐭 𝐚𝐮𝐭𝐨𝐮𝐫 𝐝𝐞 𝐫𝐞𝐬𝐭𝐢𝐭𝐮𝐭𝐢𝐨𝐧𝐬 𝐚𝐫𝐭𝐢𝐬𝐭𝐢𝐪𝐮𝐞𝐬 𝐢𝐧𝐜𝐥𝐮𝐬𝐢𝐯𝐞𝐬 :9h : Discours d’ouverture09h-12h : Job dating – Soutien à l’insertion professionnelle9h – 18h : Village Insertion9h15-16h : Village associatif et d’accès aux droits en continu10h : Danse inclusive – Collège Emile Hugo11h : Danse inclusive – IME Levavasseur13h15 : Danse inclusive – Collège Saint-Michel13h30-15h : Conférence “Préjugés et discriminations”15h : Danse inclusive – École Champ Fleuri15h30 : Théâtre “Tite Annick”17h : Danse inclusive – Lycée Rontenay17h30-19h : Conférence “Préjugés et discriminations”20h : Concert du groupe SAKINN SON SANS avec Zanmari Baré𝐋𝐞𝐬 𝐭𝐞𝐦𝐩𝐬 𝐟𝐨𝐫𝐭𝐬 𝐚̀ 𝐧𝐞 𝐩𝐚𝐬 𝐦𝐚𝐧𝐪𝐮𝐞𝐫 : Restitutions artistiques inclusives (danse et musique) : véritable cœur de cette journée\, elles témoignent du talent et de la créativité des participants. Village d’accès aux droits : un espace dédié pour s’informer\, échanger et être accompagné sur les thématiques liées au handicap. Conférences inspirantes pour sensibiliser et faire évoluer les mentalités.𝐄𝐧𝐭𝐫𝐞́𝐞 𝐥𝐢𝐛𝐫𝐞 𝐞𝐭 𝐠𝐫𝐚𝐭𝐮𝐢𝐭𝐞 – Venez nombreux célébrer l’inclusion et soutenir les talents de notre ville  https://fb.me/e/4YQQv5nra
URL:https://frt.re/evenement/sakinn-son-sans-journee-internationale-des-personnes-porteuses-de-handicap-2024/
LOCATION:La Cité des Arts\, 23 rue Léopold Rambaud\, Saint-Denis\, 97490\, Réunion
CATEGORIES:Public
ATTACH;FMTTYPE=image/jpeg:https://frt.re/wp-content/uploads/2024/11/468660834_959568652861266_5584061844228944948_n.jpg
END:VEVENT
END:VCALENDAR