BEGIN:VCALENDAR
VERSION:2.0
PRODID:-//Site de la Fédération Réunionnaise du Tourisme - ECPv6.1.1//NONSGML v1.0//EN
CALSCALE:GREGORIAN
METHOD:PUBLISH
X-WR-CALNAME:Site de la Fédération Réunionnaise du Tourisme
X-ORIGINAL-URL:https://frt.re
X-WR-CALDESC:évènements pour Site de la Fédération Réunionnaise du Tourisme
REFRESH-INTERVAL;VALUE=DURATION:PT1H
X-Robots-Tag:noindex
X-PUBLISHED-TTL:PT1H
BEGIN:VTIMEZONE
TZID:Europe/Paris
BEGIN:DAYLIGHT
TZOFFSETFROM:+0100
TZOFFSETTO:+0200
TZNAME:CEST
DTSTART:20230326T010000
END:DAYLIGHT
BEGIN:STANDARD
TZOFFSETFROM:+0200
TZOFFSETTO:+0100
TZNAME:CET
DTSTART:20231029T010000
END:STANDARD
BEGIN:DAYLIGHT
TZOFFSETFROM:+0100
TZOFFSETTO:+0200
TZNAME:CEST
DTSTART:20240331T010000
END:DAYLIGHT
BEGIN:STANDARD
TZOFFSETFROM:+0200
TZOFFSETTO:+0100
TZNAME:CET
DTSTART:20241027T010000
END:STANDARD
TZID:Indian/Reunion
BEGIN:STANDARD
TZOFFSETFROM:+0400
TZOFFSETTO:+0400
TZNAME:+04
DTSTART:20240101T000000
END:STANDARD
END:VTIMEZONE
BEGIN:VEVENT
DTSTART;TZID=Europe/Paris:20230902T180000
DTEND;TZID=Europe/Paris:20230902T230000
DTSTAMP:20260420T150257
CREATED:20230902T051614Z
LAST-MODIFIED:20230902T051622Z
UID:10001860-1693677600-1693695600@frt.re
SUMMARY:Concert "40 ans du grouper Baster"
DESCRIPTION:Baster en concert à la Rivière des Galets le 2 septembre\n\n\n\nÀ l’occasion de la tournée des 40 ans du groupe Baster\, un concert gratuit vous attend le samedi 2 septembre 2023\, dès 18h à la place Pougary\, Rivière des Galets. Marmay lontan\, Gawé on encore Inn ti manzel\, la ville du Port\, le Centre social Farfar et les différents partenaires vous proposent de revivre les plus beaux succès du groupe mené par Thierry Gauliris.\n\n\n\nBaster\, ‘40 an la kiltir nout péï’ c’est aussi une conférence le mercredi 30 août au Centre Social Farfar et une exposition photo qui se laisse appréciée jusqu’au 1er septembre à la médiathèque Benoite Boulard.
URL:https://frt.re/evenement/concert-40-ans-du-grouper-baster/
LOCATION:La Rivière des Galets\, rue Nicolas Gogol\, La Possession\, 97419\, Réunion
CATEGORIES:Public
ATTACH;FMTTYPE=image/jpeg:https://frt.re/wp-content/uploads/2023/09/370771061_695663272605727_4338472565708084363_n.jpg
END:VEVENT
BEGIN:VEVENT
DTSTART;TZID=Europe/Paris:20240622T150000
DTEND;TZID=Europe/Paris:20240622T230000
DTSTAMP:20260420T150257
CREATED:20240619T021904Z
LAST-MODIFIED:20240619T021910Z
UID:10002417-1719068400-1719097200@frt.re
SUMMARY:Cité concert à Rivière des Galets
DESCRIPTION:Ne manquez pas le Cité Concert à Rivière des Galets ! \n\n\n\nLa Ville du Port vous invite à un événement musical exceptionnel le samedi 22 juin de 15h à 23h au stade Nelson Mandela. Venez vibrer au rythme des performances live de ORNEL\, KAF MALBAR\, MIANE\, SEGAEL\, et bien d’autres artistes talentueux comme IBRAHIM’S\, REHANNE\, MISTER JEFF\, EDY\, KEROSOLO\, TAMBOUR REYONNÉ\, et les TALENTS KARTIÉ !\n\n\n\nDébut des festivités à 15h avec un défilé au départ du parking de Farfar\, suivi d’un Open Mic à 16h30 pour découvrir et encourager les nouveaux talents de notre ville.\n\n\n\nRejoignez-nous pour une journée inoubliable et festive !
URL:https://frt.re/evenement/cite-concert-a-riviere-des-galets/
LOCATION:La Rivière des Galets\, rue Nicolas Gogol\, La Possession\, 97419\, Réunion
CATEGORIES:Public
ATTACH;FMTTYPE=image/jpeg:https://frt.re/wp-content/uploads/2024/06/447898237_879107430927976_8533774482857144891_n.jpg
END:VEVENT
BEGIN:VEVENT
DTSTART;TZID=Indian/Reunion:20241219T090000
DTEND;TZID=Indian/Reunion:20241219T230000
DTSTAMP:20260420T150257
CREATED:20241219T034358Z
LAST-MODIFIED:20241219T034404Z
UID:10002865-1734598800-1734649200@frt.re
SUMMARY:Le Port en fête
DESCRIPTION:Fête du village de la Rivière des Galets ce jeudi\n\n\nDans le cadre de l’événement Le Port en fête et à la veille du 20 désanm\, la Rivière des Galets s’anime. La fête du village de la Rivière des Galets aura lieu ce jeudi 19 décembre de 9h à 23h avec des animations pour enfants\, un village lontan\, des expositions et ateliers. Un défilé rassemblera les associations et un grand concert gratuit réunira Kiltir\, Etinsel Maloya\, Yeka Maloya et Band Makwalé au stade Nelson Mandela.
URL:https://frt.re/evenement/le-port-en-fete-4/
LOCATION:La Rivière des Galets\, rue Nicolas Gogol\, La Possession\, 97419\, Réunion
CATEGORIES:Public
ATTACH;FMTTYPE=image/jpeg:https://frt.re/wp-content/uploads/2024/12/470199015_1013470294158355_7393164481249238634_n.jpg
END:VEVENT
END:VCALENDAR