BEGIN:VCALENDAR
VERSION:2.0
PRODID:-//Site de la Fédération Réunionnaise du Tourisme - ECPv6.1.1//NONSGML v1.0//EN
CALSCALE:GREGORIAN
METHOD:PUBLISH
X-WR-CALNAME:Site de la Fédération Réunionnaise du Tourisme
X-ORIGINAL-URL:https://frt.re
X-WR-CALDESC:évènements pour Site de la Fédération Réunionnaise du Tourisme
REFRESH-INTERVAL;VALUE=DURATION:PT1H
X-Robots-Tag:noindex
X-PUBLISHED-TTL:PT1H
BEGIN:VTIMEZONE
TZID:Europe/Paris
BEGIN:DAYLIGHT
TZOFFSETFROM:+0100
TZOFFSETTO:+0200
TZNAME:CEST
DTSTART:20220327T010000
END:DAYLIGHT
BEGIN:STANDARD
TZOFFSETFROM:+0200
TZOFFSETTO:+0100
TZNAME:CET
DTSTART:20221030T010000
END:STANDARD
BEGIN:DAYLIGHT
TZOFFSETFROM:+0100
TZOFFSETTO:+0200
TZNAME:CEST
DTSTART:20230326T010000
END:DAYLIGHT
BEGIN:STANDARD
TZOFFSETFROM:+0200
TZOFFSETTO:+0100
TZNAME:CET
DTSTART:20231029T010000
END:STANDARD
BEGIN:DAYLIGHT
TZOFFSETFROM:+0100
TZOFFSETTO:+0200
TZNAME:CEST
DTSTART:20240331T010000
END:DAYLIGHT
BEGIN:STANDARD
TZOFFSETFROM:+0200
TZOFFSETTO:+0100
TZNAME:CET
DTSTART:20241027T010000
END:STANDARD
TZID:Indian/Reunion
BEGIN:STANDARD
TZOFFSETFROM:+0400
TZOFFSETTO:+0400
TZNAME:+04
DTSTART:20240101T000000
END:STANDARD
END:VTIMEZONE
BEGIN:VEVENT
DTSTART;TZID=Europe/Paris:20221108T183000
DTEND;TZID=Europe/Paris:20221112T160000
DTSTAMP:20260420T134054
CREATED:20221103T004508Z
LAST-MODIFIED:20221106T044526Z
UID:10001332-1667932200-1668268800@frt.re
SUMMARY:Intermèdes Nature | Les nuits du film de nature de La Réunion
DESCRIPTION:Et oui c’est déjà la 4ème édition d’Intermèdes Nature – Les nuits du film de nature de La Réunion qui se déroulera du 8 au 12 novembre 2022. \nCo-produit par la Régie Réserve Naturelle Etang De Saint-Paul\, Lespas culturel Leconte de Lisle et l’association Au Bout Du Rêve\, Intermèdes Nature est un moment de célébration de la nature. \nLa nature est partout. \nElle rythme notre quotidien et s’exprime en nous et autour de nous. Aussi vivante soit-elle\, la nature est fragile et menacée. Nos instincts et nos passions destructrices la condamne et la fait disparaitre de notre vie quotidienne. Cette disparition nous touche et nous affecte car l’Humain fait partie de la Nature. Chaque jour\, nous entendons et voyons sur les fils d’actualité le recul des zones humides et des forêts\, l’extinction massives des espèces animales et végétales\, la disparition de nombreux habitats fragiles…Néanmoins\, la nature sacrifiée est défendue chaque jour par des combattants amoureux du vivant. Par leurs actions\, ils cherchent à éveiller notre conscience sur les risques de la vie sur terre sans nature. Ainsi sur la planète ces acteurs et actrices engagé.es tentent avec passion de nous transmettre des messages riches d’enseignement pour le futur. \nA travers cet instant cinématographique inédit dédié aux films de nature à La Réunion\, c’est un moment de contemplation unique sur la vie que l’on vous offre pendant trois soirées. \n  \nProgramme et réservations sur https://lespas.re
URL:https://frt.re/evenement/intermedes-nature-les-nuits-du-film-de-nature-de-la-reunion/
LOCATION:Léspas Culturel Leconte de Lisle\, 5 Rue Eugene Dayot\, Saint-Paul\, 97460\, Réunion
CATEGORIES:Public
ATTACH;FMTTYPE=image/jpeg:https://frt.re/wp-content/uploads/2022/11/IN4-Affiche-A3-905x1280-1.jpg
ORGANIZER;CN="R%C3%A9serve%20Naturelle%20de%20l%27Etang%20Saint-Paul":MAILTO:accueil@reserve-etangsaintpaul.fr
END:VEVENT
BEGIN:VEVENT
DTSTART;VALUE=DATE:20231108
DTEND;VALUE=DATE:20231111
DTSTAMP:20260420T134054
CREATED:20231019T023558Z
LAST-MODIFIED:20231019T023604Z
UID:10001958-1699401600-1699660799@frt.re
SUMMARY:Intermèdes Nature
DESCRIPTION:Intermèdes Nature revient à Léspas pour sa 5e édition du mercredi 8 au vendredi 10 novembre 2023 !\n\n\n\nLéspas\, toujours en association avec l’Etang de Saint-Paul Réserve Naturelle Nationale Site International Ramsar et l’association Au bout du rêve Festival du Film d’Aventure de la Réunion\, vous donne rendez-vous pour 3 belles soirées :\n\n\n\n Mercredi 8 novembre 2023 à 19h00 – Intermèdes Nature #5 – La forêt – Projection : 3 euros\n\n\n Jeudi 9 novembre 2023 à 19h00 – Intermèdes Nature #5 – Les oiseaux – Projection : 3 euros\n\n\n Vendredi 10 novembre 2023 à 19h00 – Intermèdes Nature #5 – Le règne des minuscules – Projection : 3 euros
URL:https://frt.re/evenement/intermedes-nature/
LOCATION:Léspas Culturel Leconte de Lisle\, 5 Rue Eugene Dayot\, Saint-Paul\, 97460\, Réunion
CATEGORIES:Public
ATTACH;FMTTYPE=image/jpeg:https://frt.re/wp-content/uploads/2023/10/386253944_6500751977841_460741215516366518_n.jpg
END:VEVENT
BEGIN:VEVENT
DTSTART;VALUE=DATE:20240408
DTEND;VALUE=DATE:20240413
DTSTAMP:20260420T134054
CREATED:20240307T071130Z
LAST-MODIFIED:20240307T071134Z
UID:10002157-1712534400-1712966399@frt.re
SUMMARY:Festival International du Film de l’Océan Indien
DESCRIPTION:Du 8 au 12 avril\, la toute première édition du Festival International du Film de l’Océan Indien prend ses quartiers à Saint-Paul.\nPorté par l’association Hors Champs Réunion\, en partenariat avec France Télévisions\, le FIFOI a pour vocation de mettre en lumière la diversité cinématographique de nos territoires à travers des projections en salle\, des séances d’ouverture et de clôture en plein air ouvertes à tous et des rencontres professionnelles.\nLéspas accueille le Festival pour 2 soirées inédites : le mardi 9 avril consacré aux courts-métrages et le mercredi 10 avril dédié aux documentaires.\nVenez découvrir la jeune création cinématographique née des territoires de l’Océan Indien.\nUn voyage à travers les regards de cinéastes venu.e.s de La Réunion\, de Maurice\, de Madagascar\, de Mayotte et des Comores mais aussi de la côte Est et Sud de l’Afrique\, sans oublier l’Inde\, avec une sélection de courts-métrages et de documentaires audacieux \, à l’image du bouillonnement qui anime la création cinématographique de nos pays du Sud.\nUne nouvelle expérience de cinéma collective et chaleureuse\, en présence d’invité.e.s\, à laquelle le grand public est pleinement convié à participer\, en votant pour le Prix du Public lors de la séance courts-métrages du Mardi 9 Avril\, qui sera décerné lors de la Soirée de clôture du FIFOI 2024\nLa programmation complète de chacune des deux soirées sera à découvrir à partir du 8 mars.\n———\n Infos\n• Projection\n• Association Hors Champs\n• A partir de 14 ans\n———\n Tarif\nProjection : 3.50 euros\n———\nPlus d’informations sur : https://lespas.re/festival-international-du-film-de…/\nLéspas culturel Leconte de Lisle\n 0262593966\n 5\, rue Eugène Dayot Saint-Paul – La Réunion\n contact@lespas.re
URL:https://frt.re/evenement/festival-international-du-film-de-locean-indien/
LOCATION:Léspas Culturel Leconte de Lisle\, 5 Rue Eugene Dayot\, Saint-Paul\, 97460\, Réunion
CATEGORIES:Public
ATTACH;FMTTYPE=image/jpeg:https://frt.re/wp-content/uploads/2024/03/392881133_973043957592310_5762266671043162124_n.jpg
END:VEVENT
BEGIN:VEVENT
DTSTART;VALUE=DATE:20241106
DTEND;VALUE=DATE:20241109
DTSTAMP:20260420T134054
CREATED:20241015T052945Z
LAST-MODIFIED:20241015T052951Z
UID:10002720-1730851200-1731110399@frt.re
SUMMARY:Intermèdes Nature
DESCRIPTION:Intermèdes Nature revient pour la 6e année !\n𝗠𝗲𝗿𝗰𝗿𝗲𝗱𝗶 𝟲 𝗻𝗼𝘃𝗲𝗺𝗯𝗿𝗲 – 𝟭𝟵𝗵𝟬𝟬 – 𝗩𝗼𝘆𝗮𝗴𝗲 𝘀𝗮𝘂𝘃𝗮𝗴𝗲 Cactus HôtelUn film de Yann Sochaczewski.Allemagne – 2023 – 50 min\n SAUVAGE – Le Chamois\, l’Aigle et le LoupUn film de Anne\, Véronique & Erik LAPIED.France – 2023 – 60 min\nhttps://lespas.re/intermedes-nature-6-voyage-sauvage/\n𝗝𝗲𝘂𝗱𝗶 𝟳 𝗻𝗼𝘃𝗲𝗺𝗯𝗿𝗲 – 𝟭𝟵𝗵𝟬𝟬 – 𝗦𝗼𝘂𝘀 𝘁𝗲𝗿𝗿𝗲 𝗲𝘁 𝗱𝗮𝗻𝘀 𝗹𝗲𝘀 𝗮𝗶𝗿𝘀 Au pays de l’abeille noire – Les quatre saisons d’une rucheRéalisation : Marie AlartAuteur : Samuel ToutainProduction : GUINDALA PRODUCTION | AMPERSANDFrance – 2023 – 50 min\n Planète collemboles\, la vie secrète des solsUn film de Philippe LEBEAUX (Stéphane MARMOL / Wide – Mona Lisa Production)France – 2023 – 52 min\nhttps://lespas.re/intermedes-nature-6-sous-terre-dans…/\n𝗩𝗲𝗻𝗱𝗿𝗲𝗱𝗶 𝟴 𝗻𝗼𝘃𝗲𝗺𝗯𝗿𝗲 – 𝟭𝟵𝗵𝟬𝟬 – 𝗧𝗲𝗿𝗿𝗲𝘀 𝗱’𝗲𝗮𝘂\, 𝘃𝗶𝘃𝗮𝗻𝘁𝗲𝘀 𝗲𝘁 𝘃𝗶𝘁𝗮𝗹𝗲𝘀 Les zones humides de La RéunionEn partenariat avec l’Agence Régionale de la Biodiversité de La RéunionLa Réunion – 10 min\n Trésor cachéEn partenariat avec l’Ecole Louise SiaraneLa Réunion – 15 min\n Le mystérieux voyage des oiseaux de rivageUn film de Randal Wood.France\, Australie – 2022 – 60 min\nhttps://lespas.re/intermedes-nature-6-terres-deau…/\nEn partenariat avec la Réserve Naturelle Nationale de l’Étang Saint-Paul\nTarif unique 3\,50 euros par soirée
URL:https://frt.re/evenement/intermedes-nature-2/
LOCATION:Léspas Culturel Leconte de Lisle\, 5 Rue Eugene Dayot\, Saint-Paul\, 97460\, Réunion
ATTACH;FMTTYPE=image/jpeg:https://frt.re/wp-content/uploads/2024/10/461677656_1128181508745220_8609093982062336143_n.jpg
END:VEVENT
BEGIN:VEVENT
DTSTART;VALUE=DATE:20250317
DTEND;VALUE=DATE:20250323
DTSTAMP:20260420T134054
CREATED:20250312T052834Z
LAST-MODIFIED:20250312T052838Z
UID:10002949-1742169600-1742687999@frt.re
SUMMARY:Festival Sete Sois Sete Luas
DESCRIPTION: Le Festival Sete Sóis Sete Luas débarque à Léspas ! Du 17 au 22 mars\, laissez-vous emporter par cette 9ᵉ édition péi entre concerts\, projections et découvertes artistiques ! Au programme : musique du monde\, cinéma\, flamenco\, maloya et bien plus encore… avec des artistes de La Réunion\, d’Espagne et d’ailleurs ! Rendez-vous à Léspas et en plein air pour des moments forts en émotions\, dont le grand concert gratuit de Kalou Pilé & Ombligo le 22 mars !
URL:https://frt.re/evenement/festival-sete-sois-sete-luas-2/
LOCATION:Léspas Culturel Leconte de Lisle\, 5 Rue Eugene Dayot\, Saint-Paul\, 97460\, Réunion
CATEGORIES:Public
ATTACH;FMTTYPE=image/jpeg:https://frt.re/wp-content/uploads/2025/03/482241901_1254343336129036_5873012902548059954_n.jpg
END:VEVENT
END:VCALENDAR