BEGIN:VCALENDAR
VERSION:2.0
PRODID:-//Site de la Fédération Réunionnaise du Tourisme - ECPv6.1.1//NONSGML v1.0//EN
CALSCALE:GREGORIAN
METHOD:PUBLISH
X-ORIGINAL-URL:https://frt.re
X-WR-CALDESC:évènements pour Site de la Fédération Réunionnaise du Tourisme
REFRESH-INTERVAL;VALUE=DURATION:PT1H
X-Robots-Tag:noindex
X-PUBLISHED-TTL:PT1H
BEGIN:VTIMEZONE
TZID:UTC
BEGIN:STANDARD
TZOFFSETFROM:+0000
TZOFFSETTO:+0000
TZNAME:UTC
DTSTART:20230101T000000
END:STANDARD
END:VTIMEZONE
BEGIN:VEVENT
DTSTART;TZID=UTC:20230517T150000
DTEND;TZID=UTC:20230517T160000
DTSTAMP:20260421T122344
CREATED:20230512T044753Z
LAST-MODIFIED:20230512T044759Z
UID:10001624-1684335600-1684339200@frt.re
SUMMARY:Tropicaduo
DESCRIPTION:Tropicaduo\n\nLe mercredi 17 mai de 15h à 16h à la médiathèque Antoine Louis Roussin\nSpectacle de percussion\, accordéon et voix en duo gratuit et ouvert à tout public.\nPlus d’information au 0262 50 88 20
URL:https://frt.re/evenement/tropicaduo/
LOCATION:Médiatèque Antoine Louis Roussin\, 18 Rue Montfleury\, Saint-Benoit\, 97470\, Réunion
CATEGORIES:Public
ATTACH;FMTTYPE=image/jpeg:https://frt.re/wp-content/uploads/2023/05/tropicaduo.jpg
END:VEVENT
END:VCALENDAR