BEGIN:VCALENDAR
VERSION:2.0
PRODID:-//Site de la Fédération Réunionnaise du Tourisme - ECPv6.1.1//NONSGML v1.0//EN
CALSCALE:GREGORIAN
METHOD:PUBLISH
X-ORIGINAL-URL:https://frt.re
X-WR-CALDESC:évènements pour Site de la Fédération Réunionnaise du Tourisme
REFRESH-INTERVAL;VALUE=DURATION:PT1H
X-Robots-Tag:noindex
X-PUBLISHED-TTL:PT1H
BEGIN:VTIMEZONE
TZID:Europe/Paris
BEGIN:DAYLIGHT
TZOFFSETFROM:+0100
TZOFFSETTO:+0200
TZNAME:CEST
DTSTART:20230326T010000
END:DAYLIGHT
BEGIN:STANDARD
TZOFFSETFROM:+0200
TZOFFSETTO:+0100
TZNAME:CET
DTSTART:20231029T010000
END:STANDARD
END:VTIMEZONE
BEGIN:VEVENT
DTSTART;VALUE=DATE:20231219
DTEND;VALUE=DATE:20231221
DTSTAMP:20260420T150602
CREATED:20231219T045416Z
LAST-MODIFIED:20231219T045423Z
UID:10002078-1702944000-1703116799@frt.re
SUMMARY: Gran 20 Désanm
DESCRIPTION: Gran 20 Désanm\n\n\n\n\n La Réunion et l’Afrique célèbrent l’abolition de l’esclavage\n\n\nLa Namibie et l’Afrique du Sud sont les pays invités d’honneur du Gran 20 desanm 2023 qui se déroulera les 19 et 20 décembre au Musée historique de Villèle. Un programme riche\, qui mêle conférences\, visites guidées et concerts\, est proposé avec en point de mire l’exposition croisée « My Name is February ».\n\n\nC’est en présence de Itah Kandji-Murangi\, ministre de l’Enseignement supérieur\, de la formation et de l’innovation de la République de Namibie\, ainsi que de Bongani Ndhlovu\, directeur du Musée Iziko d’Afrique du Sud\, que Cyrille Melchior\, Président du Département\, accompagné de la Conseillère départementale\, Isabelle Erudel\, a présenté le programme du Gran 20 désamn 2023 et inauguré l’exposition « My Name is February » au Musée de Villèle\, ce lundi 18 décembre 2023.\n\n\nLa Réunion et l’Afrique du Sud inscrivent leur histoire dans celle de l’esclavage. C’est pour mettre en commun cette histoire que le Département de La Réunion a signé une convention de partenariat avec Iziko Muséums of South Africa. Une démarche qui s’inscrit dans le projet du futur Musée Historique de l’Habitation et de l’Esclavage. La concrétisation de cette convention est un échange d’exposition entre le Musée de Villèle et le Slave Lodge Muséum\, deux institutions patrimoniales qui abordent une même thématique centrée sur l’histoire de l’esclavage. (…)\n\n\n Une commémoration qui débutera le 19 décembre à 18h30 du côté de la Chapelle Pointue avec les chœurs de la liberté.\n\n\n Retrouvez le programme complet du Gran 20 Desamn ici :\nhttps://www.departement974.fr/…/gran-20-desanm-musee-de…
URL:https://frt.re/evenement/gran-20-desanm/
LOCATION:Musée historique de Villèle\, Domaine Panon-Desbassyns\, Saint-Gilles-les-Hauts\, 97435\, Réunion
CATEGORIES:Public
ATTACH;FMTTYPE=image/jpeg:https://frt.re/wp-content/uploads/2023/12/408215507_667283678928908_6071734852026993145_n.jpg
END:VEVENT
END:VCALENDAR