BEGIN:VCALENDAR
VERSION:2.0
PRODID:-//Site de la Fédération Réunionnaise du Tourisme - ECPv6.1.1//NONSGML v1.0//EN
CALSCALE:GREGORIAN
METHOD:PUBLISH
X-ORIGINAL-URL:https://frt.re
X-WR-CALDESC:évènements pour Site de la Fédération Réunionnaise du Tourisme
REFRESH-INTERVAL;VALUE=DURATION:PT1H
X-Robots-Tag:noindex
X-PUBLISHED-TTL:PT1H
BEGIN:VTIMEZONE
TZID:Europe/Paris
BEGIN:DAYLIGHT
TZOFFSETFROM:+0100
TZOFFSETTO:+0200
TZNAME:CEST
DTSTART:20230326T010000
END:DAYLIGHT
BEGIN:STANDARD
TZOFFSETFROM:+0200
TZOFFSETTO:+0100
TZNAME:CET
DTSTART:20231029T010000
END:STANDARD
BEGIN:DAYLIGHT
TZOFFSETFROM:+0100
TZOFFSETTO:+0200
TZNAME:CEST
DTSTART:20240331T010000
END:DAYLIGHT
BEGIN:STANDARD
TZOFFSETFROM:+0200
TZOFFSETTO:+0100
TZNAME:CET
DTSTART:20241027T010000
END:STANDARD
TZID:Indian/Reunion
BEGIN:STANDARD
TZOFFSETFROM:+0400
TZOFFSETTO:+0400
TZNAME:+04
DTSTART:20250101T000000
END:STANDARD
END:VTIMEZONE
BEGIN:VEVENT
DTSTART;VALUE=DATE:20230811
DTEND;VALUE=DATE:20230814
DTSTAMP:20260425T050023
CREATED:20230724T071822Z
LAST-MODIFIED:20230724T071832Z
UID:10001780-1691712000-1691971199@frt.re
SUMMARY:La fête de Piton
DESCRIPTION:𝗔𝗽𝗿𝗲̀𝘀 𝟯 𝗮𝗻𝘀 𝗱’𝗮𝗯𝘀𝗲𝗻𝗰𝗲\, 𝗹𝗮 𝗙𝗲̂𝘁𝗲 𝗱𝗲 𝗣𝗶𝘁𝗼𝗻 𝗲𝘀𝘁 𝗱𝗲 𝗿𝗲𝘁𝗼𝘂𝗿 ! \n\n\n\nDu 11 au 13 août\, rendez-vous au stade de Piton pour la fête forraine et des concerts inédits \n\n\nEn tête d’affiche :\n Tikok Vellaye\n Orlane\n Thierry Cham\n Manyan Family\n\n\nUn radio crochet sera également organisé dimanche 13 août. \n\n\nNou attend a zot nombreux !!
URL:https://frt.re/evenement/la-fete-de-piton/
LOCATION:Piton Saint-Leu\, Piton Saint-Leu\, 97424\, Réunion
CATEGORIES:Public
ATTACH;FMTTYPE=image/jpeg:https://frt.re/wp-content/uploads/2023/07/362950529_655571123272457_139501842505180466_n.jpg
ORGANIZER;CN="Ville%20de%20Saint-Leu":MAILTO:secretariat@mairie-saintleu.fr
END:VEVENT
BEGIN:VEVENT
DTSTART;TZID=Europe/Paris:20231220T130000
DTEND;TZID=Europe/Paris:20231220T230000
DTSTAMP:20260425T050023
CREATED:20231217T030040Z
LAST-MODIFIED:20231217T030044Z
UID:10002062-1703077200-1703113200@frt.re
SUMMARY:Fèt Kaf
DESCRIPTION:Le Kolectif d’associations en collaboration avec la Ville de Saint-Leu présentent la 𝑭𝒆𝒕 𝑲𝒂𝒇 ! \n\n\nRendez-vous le mercredi 20 Désanm à Piton Saint-Leu\, sur la place du Foirail de 13h à 23h pour fêter ensemble la liberté ! \n\n\nExposition d’instruments lontan\, tressage de coco\, jeux pour marmailles\, défilé et kabar sont prévus sur la place du Foirail.\n\n\nLe groupe Ziskakan (Officiel) clôturera la journée avec un concert live et gratuit ! \n\n\nPlus d’info ici  https://www.saintleu.re/…/le-kolectif-dassociations-en…
URL:https://frt.re/evenement/fet-kaf/
LOCATION:Piton Saint-Leu\, Piton Saint-Leu\, 97424\, Réunion
CATEGORIES:Public
ATTACH;FMTTYPE=image/jpeg:https://frt.re/wp-content/uploads/2023/12/408956646_733888522107383_7525556165419124594_n.jpg
ORGANIZER;CN="Ville%20de%20Saint-Leu":MAILTO:secretariat@mairie-saintleu.fr
END:VEVENT
BEGIN:VEVENT
DTSTART;VALUE=DATE:20240705
DTEND;VALUE=DATE:20240708
DTSTAMP:20260425T050023
CREATED:20240703T030350Z
LAST-MODIFIED:20240703T030359Z
UID:10002440-1720137600-1720396799@frt.re
SUMMARY:Karfour Agricole
DESCRIPTION:Le Karfour Agricole revient à Saint-Leu du 5 au 7 juillet 2024 !\n\n\nVenez fêter l’agriculture  et découvrir les produits locaux lors de cette 2e édition du Karfour Agricole organisé par l’Association des Agriculteurs de #SaintLeu en partenariat avec la Ville qui se tiendra du 5 au 7 juillet 2024 !\n\n\nAu programme de cette année :\n\n\n Ateliers : apprenez à faire du fromage\, du pain réunionnais\, des tisanes…\n Débats : rencontrez des agriculteurs\, des élus et des experts pour discuter de l’avenir de l’agriculture à #LaRéunion.\n Spectacles : profitez de spectacles de danse et de musique\n Concerts : de nombreux artistes avec entre autre Lumière\, Jean-Roland Miquel\, Joe Persée\, Ti Manyel\, #KafMalbar\, Bwa D’Nef Inn\, Héritaz Maloya.\nAnimations : participez à des jeux traditionnels\, des manèges et des animations pour toute la famille.\n\n\n Rendez-vous au Karfour Agricole pour honorer nout’ patrimoine et nout’ band traditions dans une ambiance #SaintLeusienne .
URL:https://frt.re/evenement/karfour-agricole/
LOCATION:Piton Saint-Leu\, Piton Saint-Leu\, 97424\, Réunion
CATEGORIES:Public
ATTACH;FMTTYPE=image/jpeg:https://frt.re/wp-content/uploads/2024/07/448892468_852368333592734_5864198763163611548_n.jpg
ORGANIZER;CN="Ville%20de%20Saint-Leu":MAILTO:secretariat@mairie-saintleu.fr
END:VEVENT
BEGIN:VEVENT
DTSTART;VALUE=DATE:20250718
DTEND;VALUE=DATE:20250721
DTSTAMP:20260425T050023
CREATED:20250710T080145Z
LAST-MODIFIED:20250710T080149Z
UID:10003032-1752796800-1753055999@frt.re
SUMMARY:Karfour Agrikol
DESCRIPTION:🌴✨ 𝐁𝐢𝐞𝐧𝐭𝐨̂𝐭 𝐥𝐞𝐬 𝐯𝐚𝐜𝐚𝐧𝐜𝐞𝐬 𝐬𝐜𝐨𝐥𝐚𝐢𝐫𝐞𝐬 🤩 𝐃𝐢𝐫𝐞𝐜𝐭𝐢𝐨𝐧 𝐥𝐞 𝐊𝐀𝐑𝐅𝐎𝐔𝐑 𝐀𝐆𝐑𝐈𝐊𝐎𝐋 ! ✨🌴 \n📅 18\, 19 et 20 juillet 2025\n📍 Stade de Piton – Piton Saint-Leu\n🎟️ ENTRÉE GRATUITE ! \nÀ l’approche des vacances scolaires\, l’Association des agriculteur de saint leu\, en partenariat avec la Ville de Saint-Leu\, vous invite à un week-end 100% péi :\n✅ Animations\, ateliers\, exposition d’engins agricoles 🚜\n✅ Traditions kréol avec le baptême des couteaux 👨‍🌾\n✅ Concerts : Malakaf\, Olivier Brique\, Kamarsa\, Secteur 410\, Natty Dread\, Lorkès Promi\, Clara & Progression 🎵 \n❤️ Venez en famille ou entre amis découvrir nos agriculteurs\, goûter aux produits du terroir et profiter d’un moment festif !
URL:https://frt.re/evenement/karfour-agrikol/
LOCATION:Piton Saint-Leu\, Piton Saint-Leu\, 97424\, Réunion
CATEGORIES:Public
ATTACH;FMTTYPE=image/jpeg:https://frt.re/wp-content/uploads/2025/07/514736438_1123757293120502_8558055711960476017_n.jpg
ORGANIZER;CN="Ville%20de%20Saint-Leu":MAILTO:secretariat@mairie-saintleu.fr
END:VEVENT
END:VCALENDAR