BEGIN:VCALENDAR
VERSION:2.0
PRODID:-//Site de la Fédération Réunionnaise du Tourisme - ECPv6.1.1//NONSGML v1.0//EN
CALSCALE:GREGORIAN
METHOD:PUBLISH
X-ORIGINAL-URL:https://frt.re
X-WR-CALDESC:évènements pour Site de la Fédération Réunionnaise du Tourisme
REFRESH-INTERVAL;VALUE=DURATION:PT1H
X-Robots-Tag:noindex
X-PUBLISHED-TTL:PT1H
BEGIN:VTIMEZONE
TZID:UTC
BEGIN:STANDARD
TZOFFSETFROM:+0000
TZOFFSETTO:+0000
TZNAME:UTC
DTSTART:20230101T000000
END:STANDARD
TZID:Europe/Paris
BEGIN:DAYLIGHT
TZOFFSETFROM:+0100
TZOFFSETTO:+0200
TZNAME:CEST
DTSTART:20230326T010000
END:DAYLIGHT
BEGIN:STANDARD
TZOFFSETFROM:+0200
TZOFFSETTO:+0100
TZNAME:CET
DTSTART:20231029T010000
END:STANDARD
BEGIN:DAYLIGHT
TZOFFSETFROM:+0100
TZOFFSETTO:+0200
TZNAME:CEST
DTSTART:20240331T010000
END:DAYLIGHT
BEGIN:STANDARD
TZOFFSETFROM:+0200
TZOFFSETTO:+0100
TZNAME:CET
DTSTART:20241027T010000
END:STANDARD
END:VTIMEZONE
BEGIN:VEVENT
DTSTART;TZID=UTC:20230617T153000
DTEND;TZID=UTC:20230617T180000
DTSTAMP:20260421T152023
CREATED:20230613T021637Z
LAST-MODIFIED:20230613T025000Z
UID:10001675-1687015800-1687024800@frt.re
SUMMARY:Journée Internationale du Yoga
DESCRIPTION:Journée Internationale du Yoga\nDécouvrez la magie du yoga lors de la Journée internationale du yoga à Saint-Paul !\n\n\n\nDu 17 au 28 juin\, la Ville de Saint-Paul accueille un événement d’une semaine dédié à cette pratique millénaire qui apporte bien-être et équilibre à tous ceux qui la pratiquent. Cette année\, le thème de l’événement est le trouble de l’attention. Organisé par l’Association Réunionnaise des Relations et Créations Culturelles et soutenu par la municipalité de Saint-Paul et le Consulat général de l’Inde à La Réunion\, cet événement met en valeur les bienfaits du yoga dans trois lieux emblématiques de la ville.\nInformation et réservation au 02 62 34 58 72
URL:https://frt.re/evenement/journee-internationale-du-yoga/
LOCATION:Plage de Cap Homard\, Saint-Paul\, 97460\, Réunion
CATEGORIES:Public
ATTACH;FMTTYPE=image/jpeg:https://frt.re/wp-content/uploads/2023/06/yoga.jpg
END:VEVENT
BEGIN:VEVENT
DTSTART;TZID=Europe/Paris:20230812T090000
DTEND;TZID=Europe/Paris:20230812T150000
DTSTAMP:20260421T152023
CREATED:20230804T022739Z
LAST-MODIFIED:20230804T022746Z
UID:10001805-1691830800-1691852400@frt.re
SUMMARY:Méga Beach Party
DESCRIPTION:Méga Beach Party\nAprès les ateliers et les initiations aux métiers du numériques et de la musique\, le dispositif Vac’Ado se clôtureront ce samedi 12 août avec une méga Beach Party sur la plage du Cap Homard de 9h00 à 15h00.\n\n\n\nTous les jeunes ayant participé au dispositif Vac’Ado ainsi que les adolescents de 11 à 17 ans de la ville de Saint-Paul sont attendus pour venir partager un moment festif et profiter de la fin de ces vacances avant d’entamer une nouvelle année scolaire. Parcours d’obstacles\, structures gonflables et bien d’autres activités sont au programme.\n\n\n\nDes navettes gratuites seront mises en place dans les différents bassins de vie pour assurer le transports des jeunes. Les jeunes peuvent s’inscrire dès maintenant au service jeunesse de la mairie ou sur service.jeunessse@mairie-saintpaul.fr
URL:https://frt.re/evenement/mega-beach-party/
LOCATION:Plage de Cap Homard\, Saint-Paul\, 97460\, Réunion
CATEGORIES:Public
ATTACH;FMTTYPE=image/jpeg:https://frt.re/wp-content/uploads/2023/08/365160329_658929712932994_4691150262277321805_n.jpg
END:VEVENT
BEGIN:VEVENT
DTSTART;TZID=Europe/Paris:20240120T090000
DTEND;TZID=Europe/Paris:20240120T150000
DTSTAMP:20260421T152023
CREATED:20231208T035643Z
LAST-MODIFIED:20240118T074124Z
UID:10002041-1705741200-1705762800@frt.re
SUMMARY:Mega Beach Party - Cap Homard !
DESCRIPTION:Mega Beach Party – Cap Homard ! \n\n\n\nPour bien célébrer l’été en ce début d’année avec la jeunesse ! \nLe 20 janvier 2024\, nous organisons une Mega Beach Party sur la plage du Cap Homard\, réservée aux jeunes de 11 à 17 ans ! \n\n\n Date : 20 janvier 2024\nLieu : Plage du Cap Homard\n Heure: De 9h00 à 15h00\n\n\n Pour plus d’informations\, contactez-nous au 0262 34 48 21 ou au 0692 33 61 10.\n Possibilité de s’inscrire sur place et de rejoindre l’amusement instantanément !\n\n\nN’oubliez pas d’inviter tous vos amis pour une journée inoubliable de soleil\, de sable et de sourires !
URL:https://frt.re/evenement/mega-beach-party-cap-homard/
LOCATION:Plage de Cap Homard\, Saint-Paul\, 97460\, Réunion
CATEGORIES:Public
ATTACH;FMTTYPE=image/jpeg:https://frt.re/wp-content/uploads/2023/12/408145544_731386809020617_8934764949864850443_n.jpg
END:VEVENT
BEGIN:VEVENT
DTSTART;TZID=Europe/Paris:20240309T090000
DTEND;TZID=Europe/Paris:20240309T150000
DTSTAMP:20260421T152023
CREATED:20240221T031953Z
LAST-MODIFIED:20240221T031957Z
UID:10002129-1709974800-1709996400@frt.re
SUMMARY:Méga Beach Party
DESCRIPTION:Nouvelle date pour la Mega Beach Party qui devait avoir lieu au mois de Janvier ! \n\n\nLe samedi 09 mars 2024\, nous vous attendons sur la plage du Cap Homard pour la Mega Beach Party\nUn évènement réservé aux jeunes de 11 à 17 ans ! \n\n\nVenez profiter des activités en duel de 9h00 à 15h00 ! \n\n\n l’inscription pour les navettes se fera jusqu’au 29 février 2024 inclus.\n\n\n Pour plus d’informations\, contactez-nous au 0262 45 90 77 ou au 0692 33 61 10.\n Possibilité de s’inscrire en groupe !
URL:https://frt.re/evenement/mega-beach-party-2/
LOCATION:Plage de Cap Homard\, Saint-Paul\, 97460\, Réunion
CATEGORIES:Public
ATTACH;FMTTYPE=image/jpeg:https://frt.re/wp-content/uploads/2024/02/417542917_778270274332270_8897050023008478497_n.jpg
END:VEVENT
END:VCALENDAR