BEGIN:VCALENDAR
VERSION:2.0
PRODID:-//Site de la Fédération Réunionnaise du Tourisme - ECPv6.1.1//NONSGML v1.0//EN
CALSCALE:GREGORIAN
METHOD:PUBLISH
X-ORIGINAL-URL:https://frt.re
X-WR-CALDESC:évènements pour Site de la Fédération Réunionnaise du Tourisme
REFRESH-INTERVAL;VALUE=DURATION:PT1H
X-Robots-Tag:noindex
X-PUBLISHED-TTL:PT1H
BEGIN:VTIMEZONE
TZID:Europe/Paris
BEGIN:DAYLIGHT
TZOFFSETFROM:+0100
TZOFFSETTO:+0200
TZNAME:CEST
DTSTART:20230326T010000
END:DAYLIGHT
BEGIN:STANDARD
TZOFFSETFROM:+0200
TZOFFSETTO:+0100
TZNAME:CET
DTSTART:20231029T010000
END:STANDARD
BEGIN:DAYLIGHT
TZOFFSETFROM:+0100
TZOFFSETTO:+0200
TZNAME:CEST
DTSTART:20240331T010000
END:DAYLIGHT
BEGIN:STANDARD
TZOFFSETFROM:+0200
TZOFFSETTO:+0100
TZNAME:CET
DTSTART:20241027T010000
END:STANDARD
TZID:Indian/Reunion
BEGIN:STANDARD
TZOFFSETFROM:+0400
TZOFFSETTO:+0400
TZNAME:+04
DTSTART:20250101T000000
END:STANDARD
END:VTIMEZONE
BEGIN:VEVENT
DTSTART;VALUE=DATE:20230315
DTEND;VALUE=DATE:20230320
DTSTAMP:20260420T121834
CREATED:20230309T062316Z
LAST-MODIFIED:20230309T062327Z
UID:10001417-1678838400-1679270399@frt.re
SUMMARY:Open International Beach des Brisants 2023
DESCRIPTION:Comme chaque année\, au mois de mars\, se déroule l’évènement Beach Tennis de l’Ouest : L’OPEN INTERNATIONAL BEACH DES BRISANTS ! \nDu 15 au 19 mars \, la plage des Brisants\, située à Saint-Gilles-les-Bains\, juste à côté de la Rondavelle Le Sauvage accueille de très nombreux joueurs étrangers de haut niveau. \nAu programme des matchs à couper le souffle\, une superbe ambiance mais aussi des stands qui vous permettront de venir à la rencontre des partenaires et aussi de l’Office de Tourisme de l’Ouest ! \nDurant ces jours de compétition aura lieu aussi le tournoi des partenaires ! \nL’Office de Tourisme de l’Ouest est partenaire de l’Open des Brisants. \nUn évènement phare sur la côte Ouest de La Réunion. The place to Beach !
URL:https://frt.re/evenement/open-international-beach-des-brisants-2023/
LOCATION:Plage des Brisants\, Saint-Paul\, 97460\, Réunion
CATEGORIES:Public
ATTACH;FMTTYPE=image/jpeg:https://frt.re/wp-content/uploads/2023/03/brisant.jpg
ORGANIZER;CN="Bourbon%20Brisants%20Beachtennis%203B":MAILTO:3b.beachtennis@gmail.com
END:VEVENT
BEGIN:VEVENT
DTSTART;VALUE=DATE:20240508
DTEND;VALUE=DATE:20240513
DTSTAMP:20260420T121834
CREATED:20240425T015119Z
LAST-MODIFIED:20240425T015124Z
UID:10002222-1715126400-1715558399@frt.re
SUMMARY:Open International des Brisants
DESCRIPTION:Vous l’attendez avec impatience tous les ans et il revient …\n L’Open International des Brisants  se jouera cette année\, dans la fraîcheur du mois de mai !\n Première semaine des vacances scolaires : du 8 au 12 mai 2024.\n Avec le soutien de la BNP PARIBAS\, la Fédération Française de Tennis\, la Mairie de St Paul et de tous nos autres fantastiques partenaires.\n Préparez-vous pour 5 jours pleins d’intensité\, d’ambiance\, de surprises et d’émotions !\n A très vite sur le sable ! Save the date ! 
URL:https://frt.re/evenement/open-international-des-brisants/
LOCATION:Plage des Brisants\, Saint-Paul\, 97460\, Réunion
CATEGORIES:Public
ATTACH;FMTTYPE=image/jpeg:https://frt.re/wp-content/uploads/2024/04/422041933_770816915083880_4889223629155292854_n.jpg
ORGANIZER;CN="Bourbon%20Brisants%20Beachtennis%203B":MAILTO:3b.beachtennis@gmail.com
END:VEVENT
BEGIN:VEVENT
DTSTART;VALUE=DATE:20250307
DTEND;VALUE=DATE:20250312
DTSTAMP:20260420T121834
CREATED:20250205T041720Z
LAST-MODIFIED:20250205T041726Z
UID:10002896-1741305600-1741737599@frt.re
SUMMARY:Open International des Brisant 2025 by BNP Paribas
DESCRIPTION:Il est de retour dans un format encore plus grand et encore plus fort !  L’Open International des Brisants \n Avec le soutien de la BNP PARIBAS\, la Fédération Française de Tennis et la région entre autres ! Préparez-vous pour 5 jours pleins d’intensité\, d’ambiance\, de surprises et d’émotions ! A très vite sur le sable !\nSave the date !
URL:https://frt.re/evenement/open-international-des-brisant-2025-by-bnp-paribas/
LOCATION:Plage des Brisants\, Saint-Paul\, 97460\, Réunion
CATEGORIES:Public
ATTACH;FMTTYPE=image/jpeg:https://frt.re/wp-content/uploads/2025/02/475795377_1012448504254052_624515252709700580_n.jpg
ORGANIZER;CN="Bourbon%20Brisants%20Beachtennis%203B":MAILTO:3b.beachtennis@gmail.com
END:VEVENT
END:VCALENDAR